BEGIN:VCALENDAR
VERSION:2.0
PRODID:-//wp-events-plugin.com//7.2.3.1//EN
TZID:America/Detroit
X-WR-TIMEZONE:America/Detroit
BEGIN:VEVENT
UID:93067@annarborwithkids.com
DTSTART;TZID=America/Detroit:20260328T140000
DTEND;TZID=America/Detroit:20260328T160000
DTSTAMP:20260312T190910Z
URL:https://annarborwithkids.com/events/odd-show-tell/
SUMMARY:ODD Show &amp\; Tell
DESCRIPTION:\nDo you miss elementary school show and tell? Well\, this is t
 he upgraded version! Bring a few of your most fascinating (and odd) collec
 tibles to show the group and they will show you some of their favorite mus
 eum pieces as well.\n\n\n\nWhat to Expect:This program is entirely outdoor
 s. The time\, approximately 120-minutes\, will be spent indoors\, seated i
 n the classroom.*editors note: We realize this is contradictory. But this 
 is how Lake Erie Metropark has it listed.\n\n\n\nAges: 12 and up.Meet at M
 arshlands Museum\n\n\n\nPre-registration is required by 4 p.m. the day bef
 ore the program.\n
CATEGORIES:Advance Registration,Arbor Annie's Highlights,High
 Schoolers,Middle Schoolers,Nature,Parents,Registration Required
LOCATION:Lake Erie Metropark\, 32481 West Jefferson Avenue\, Brownstown\, M
 ichigan\, 48173\, United States
GEO:42.070504;-83.210829
X-APPLE-STRUCTURED-LOCATION;VALUE=URI;X-ADDRESS=32481 West Jefferson Avenue
 \, Brownstown\, Michigan\, 48173\, United States;X-APPLE-RADIUS=100;X-TITL
 E=Lake Erie Metropark:geo:42.070504,-83.210829
END:VEVENT
BEGIN:VTIMEZONE
TZID:America/Detroit
X-LIC-LOCATION:America/Detroit
BEGIN:DAYLIGHT
DTSTART:20260308T030000
TZOFFSETFROM:-0500
TZOFFSETTO:-0400
TZNAME:EDT
END:DAYLIGHT
END:VTIMEZONE
END:VCALENDAR