BEGIN:VCALENDAR
VERSION:2.0
PRODID:-//wp-events-plugin.com//7.2.3.1//EN
TZID:America/Detroit
X-WR-TIMEZONE:America/Detroit
BEGIN:VEVENT
UID:92868@annarborwithkids.com
DTSTART;TZID=America/Detroit:20260331T140000
DTEND;TZID=America/Detroit:20260331T144500
DTSTAMP:20260309T194735Z
URL:https://annarborwithkids.com/events/nutty-scientists-magic-of-science/
SUMMARY:Nutty Scientists: Magic of Science
DESCRIPTION:\nIs it MAGIC? Nope\, it’s SCIENCE! Join the Nutty Scientists
  for an afternoon where they show you the magic of everyday things. From t
 urning the invisible to visible\, making water disappear\, and causing obj
 ects to float\, fly\, and LAUNCH\, they will be sure to amaze any young an
 d curious minds. You will even get a chance to test out an experiment of t
 heir own! \n\n\n\nFor grades K-5. Held in First Floor Lobby.\n\n\n\n\n\n\
 n
CATEGORIES:Arbor Annie's Highlights,Elementary,Free,Indoor Activities,STEM
LOCATION:Downtown Branch of AADL\, 343 South Fifth Avenue\, Ann Arbor\, Mic
 higan\, 48104\, Downtown\, United States
GEO:42.278198;-83.745971
X-APPLE-STRUCTURED-LOCATION;VALUE=URI;X-ADDRESS=343 South Fifth Avenue\, An
 n Arbor\, Michigan\, 48104\, Downtown\, United States;X-APPLE-RADIUS=100;X
 -TITLE=Downtown Branch of AADL:geo:42.278198,-83.745971
END:VEVENT
BEGIN:VTIMEZONE
TZID:America/Detroit
X-LIC-LOCATION:America/Detroit
BEGIN:DAYLIGHT
DTSTART:20260308T030000
TZOFFSETFROM:-0500
TZOFFSETTO:-0400
TZNAME:EDT
END:DAYLIGHT
END:VTIMEZONE
END:VCALENDAR