BEGIN:VCALENDAR
VERSION:2.0
PRODID:-//wp-events-plugin.com//7.2.3.1//EN
TZID:America/Detroit
X-WR-TIMEZONE:America/Detroit
BEGIN:VEVENT
UID:59218@annarborwithkids.com
DTSTART;TZID=America/Detroit:20251020T160000
DTEND;TZID=America/Detroit:20251020T180000
DTSTAMP:20250924T201617Z
URL:https://annarborwithkids.com/events/not-too-scary-storybook-trail/
SUMMARY:Not-Too-Scary StoryBook Trail
DESCRIPTION:\nWear your Halloween costume and hunt for treats on our StoryB
 ook Trail while enjoying a not-too-scary story. Families can start the tra
 il anytime during our program hours. Volunteers will be on hand with speci
 al treats along the trail.\n\n\n\nNote: dogs are not allowed at the preser
 ve\, there are no facilities\, and parking is limited.\n\n\n\n\n\n\n
CATEGORIES:Animals,Arbor Annie's
 Highlights,Elementary,Free,Halloween,Parents,Preschoolers,Storytime,Toddle
 r,Trick or Treat
LOCATION:Baker Woods Preserve\, 11914 Trinkle Rd\, Dexter\, Michigan\, 4813
 0\, Dexter\, United States
GEO:42.3109861;-83.96627949999998
X-APPLE-STRUCTURED-LOCATION;VALUE=URI;X-ADDRESS=11914 Trinkle Rd\, Dexter\,
  Michigan\, 48130\, Dexter\, United States;X-APPLE-RADIUS=100;X-TITLE=Bake
 r Woods Preserve:geo:42.3109861,-83.96627949999998
END:VEVENT
BEGIN:VTIMEZONE
TZID:America/Detroit
X-LIC-LOCATION:America/Detroit
BEGIN:DAYLIGHT
DTSTART:20250309T030000
TZOFFSETFROM:-0500
TZOFFSETTO:-0400
TZNAME:EDT
END:DAYLIGHT
END:VTIMEZONE
END:VCALENDAR