BEGIN:VCALENDAR
VERSION:2.0
PRODID:-//wp-events-plugin.com//7.2.3.1//EN
TZID:America/Detroit
X-WR-TIMEZONE:America/Detroit
BEGIN:VEVENT
UID:89430@annarborwithkids.com
DTSTART;TZID=America/Detroit:20251014T190000
DTEND;TZID=America/Detroit:20251014T193000
DTSTAMP:20250923T171422Z
URL:https://annarborwithkids.com/events/not-so-scary-monster-tales/
SUMMARY:Not-So-Scary Monster Tales
DESCRIPTION:\nWhat's that hiding under the bed? Join AADL storytellers for 
 a special evening storytime featuring some (not very) scary monsters!\n\n\
 n\nFor preschool-grade 2\n\n\n\n\n\n\n
CATEGORIES:Arbor Annie's Highlights,Elementary,Free,Halloween,Indoor
 Activities,Preschoolers,Storytime
LOCATION:Pittsfield Branch Library\, 2359 Oak Valley Dr\, Ann Arbor\, Michi
 gan\, 48103\, Pittsfield\, United States
GEO:42.2526001;-83.77801540000002
X-APPLE-STRUCTURED-LOCATION;VALUE=URI;X-ADDRESS=2359 Oak Valley Dr\, Ann Ar
 bor\, Michigan\, 48103\, Pittsfield\, United States;X-APPLE-RADIUS=100;X-T
 ITLE=Pittsfield Branch Library:geo:42.2526001,-83.77801540000002
END:VEVENT
BEGIN:VTIMEZONE
TZID:America/Detroit
X-LIC-LOCATION:America/Detroit
BEGIN:DAYLIGHT
DTSTART:20250309T030000
TZOFFSETFROM:-0500
TZOFFSETTO:-0400
TZNAME:EDT
END:DAYLIGHT
END:VTIMEZONE
END:VCALENDAR