BEGIN:VCALENDAR
VERSION:2.0
PRODID:-//wp-events-plugin.com//7.2.3.1//EN
TZID:America/Detroit
X-WR-TIMEZONE:America/Detroit
BEGIN:VEVENT
UID:89258@annarborwithkids.com
DTSTART;TZID=America/Detroit:20251026T123000
DTEND;TZID=America/Detroit:20251026T160000
DTSTAMP:20250910T021549Z
URL:https://annarborwithkids.com/events/not-so-scary-haunted-house/
SUMMARY:Not-So-Scary Haunted House
DESCRIPTION:\nAADL's walk-through attraction is a spooky and creepy experie
 nce designed to delight without fright. Traverse an eyeball swamp\, cross 
 a ghost-and-pun-filled graveyard\, see rats and skeletons at dinner\, and 
 more. \n\n\n\nTo help make this event a fun experience for everyone\, AAD
 L is doing timed entry. Stop by the registration table at the Halloween Co
 stume Contest in the Lobby to pick up a sticker for a time slot. \n\n\n\n
 The Haunted House is approximately 200 feet of marked pathway with multi
 ple twists and turns in low light. It is wheelchair accessible. AADL asks 
 that strollers be left in the designated stroller parking next to the Lowe
 r Level Program Room entrance/exit. The entire Haunted House is a low-li
 ght situation\; a few lights may blink\, but there are no strobe lights. 
 \n\n\n\nA sensory-friendly experience is being offered earlier in the day 
 from 10:30–11:30a\n\n\n\nThis event happens during the Main Street Treat
  Parade.\n\n\n\n\n
CATEGORIES:Arbor Annie's Highlights,Elementary,Free,Halloween,High
 Schoolers,Indoor Activities,Middle Schoolers,Parents
LOCATION:Downtown Branch of AADL\, 343 South Fifth Avenue\, Ann Arbor\, Mic
 higan\, 48104\, Downtown\, United States
GEO:42.278198;-83.745971
X-APPLE-STRUCTURED-LOCATION;VALUE=URI;X-ADDRESS=343 South Fifth Avenue\, An
 n Arbor\, Michigan\, 48104\, Downtown\, United States;X-APPLE-RADIUS=100;X
 -TITLE=Downtown Branch of AADL:geo:42.278198,-83.745971
END:VEVENT
BEGIN:VTIMEZONE
TZID:America/Detroit
X-LIC-LOCATION:America/Detroit
BEGIN:DAYLIGHT
DTSTART:20250309T030000
TZOFFSETFROM:-0500
TZOFFSETTO:-0400
TZNAME:EDT
END:DAYLIGHT
END:VTIMEZONE
END:VCALENDAR