BEGIN:VCALENDAR
VERSION:2.0
PRODID:-//wp-events-plugin.com//7.2.3.1//EN
TZID:America/Detroit
X-WR-TIMEZONE:America/Detroit
BEGIN:VEVENT
UID:82543@annarborwithkids.com
DTSTART;TZID=America/Detroit:20241026T130000
DTEND;TZID=America/Detroit:20241026T140000
DTSTAMP:20241023T195811Z
URL:https://annarborwithkids.com/events/no-so-spooky-storytime/
SUMMARY:No So Spooky Storytime
DESCRIPTION:\nSchuler Books is holding a Not-So-Spooky Storytime on Saturda
 y\, October 26 during the Westgate Trick or Treat event.\n\n\n\nThey will 
 start with a Not So Spooky Storytime at 1p for toddlers and preschoolers.\
 n\n\n\nAt 1:30p\, they will move to Campfire Stories for older kids (recom
 mended for ages 8-12).\n\n\n\nBoth sessions will include a Halloween theme
 d craft and treat.\n\n\n\nAfter the storytime\, trick or treat at particip
 ating Westgate businesses.\n\n\n\nThe event is free\, but RSVPs are reques
 ted\n\n\n\n\n\n\n\n\n\n\n\n\n
CATEGORIES:Advance Registration,Arbor Annie's
 Highlights,Crafts,Elementary,Free,Halloween,Indoor
 Activities,Preschoolers,Storytime,Toddler
LOCATION:Schuler Books (Nicola's Books)\, 2513 Jackson Ave\, Ann Arbor\, MI
 \, 48103\, United States
GEO:42.278952;-83.782725
X-APPLE-STRUCTURED-LOCATION;VALUE=URI;X-ADDRESS=2513 Jackson Ave\, Ann Arbo
 r\, MI\, 48103\, United States;X-APPLE-RADIUS=100;X-TITLE=Schuler Books (N
 icola's Books):geo:42.278952,-83.782725
END:VEVENT
BEGIN:VTIMEZONE
TZID:America/Detroit
X-LIC-LOCATION:America/Detroit
BEGIN:DAYLIGHT
DTSTART:20240310T030000
TZOFFSETFROM:-0500
TZOFFSETTO:-0400
TZNAME:EDT
END:DAYLIGHT
END:VTIMEZONE
END:VCALENDAR