BEGIN:VCALENDAR
VERSION:2.0
PRODID:-//wp-events-plugin.com//7.2.3.1//EN
TZID:America/Detroit
X-WR-TIMEZONE:America/Detroit
BEGIN:VEVENT
UID:89478@annarborwithkids.com
DTSTART;TZID=America/Detroit:20251026T160000
DTEND;TZID=America/Detroit:20251026T213000
DTSTAMP:20250924T131333Z
URL:https://annarborwithkids.com/events/nightmare-on-cross-st-2025-10-26/
SUMMARY:Nightmare on Cross St
DESCRIPTION:\nOctober in Depot Town: Where the Strange &amp\; Wonderful Com
 e Out to Play!\n\n\n\n\n\n\n\nStep into a whirl of delight every Weekend n
 ight this October in historic Depot Town! We’ve conjured up a month-long
  celebration packed with chills\, thrills\, and one-of-a-kind fun for all 
 ages:\n\n\n\n\nMini-Haunted Caboose &amp\; Selfie Booth: The historic cabo
 ose transforms into a spook-tacular haunt—perfectly creepy (but not too 
 scary) for little ghouls and grown-ups alike! Fridays\, 6:30–9pm (except
  Halloween).\n\n\n\nPhantoms Trail Treasure Hunt: Embark on a riddle-fille
 d adventure across Depot Town! Pick up your first clues at any participati
 ng shop and solve your way through games\, puzzles\, and surprises—do it
  all in one night or savor the hunt all month long until the 25th.\n\n\n\n
 Live Entertainment Every Weekend:\n\nOctober 18 - The A7 Marching Band bri
 ngs the beat\n\n\n\nOctober 11 - Jimmy the Magnificent wows with magic\n\n
 \n\nOctober 11 - Balloon animal workshops\, fire dancers\, and street perf
 ormers \n\n\n\nOctober 25 - The inaugural Depot Town Cat Crawl—costumes 
 encouraged!\n\n\n\n\n\nCostume Contests\, Scary Movies &amp\; More:\n\n\n\
 nCatch cult-classic scary movies on the Sidetracks patio (Saturdays)\n\n\n
 \nWatch haunted skeletons roam the historic streets\, scope out the beauti
 ful decor (all month)\n\n\n\nCelebrate local talent at the Michigan Author
  Spotlight at This\, That &amp\; the ODDer things (Sundays 5-7pm)\n\n\n\n\
 nEvery weekend brings new surprises and unforgettable moments. Whether you
 ’re a family on the hunt for adventure\, a lover of the strange and spoo
 ky\, or just looking for something wildly fun—Depot Town is the place to
  be this October.\n\n\n\n\n\n\n\nDon’t miss out—bring your friends\, b
 ring your family\, and discover the magic\, mystery\, and mayhem waiting a
 round every corner!\n\n\n\n\n
ATTACH;FMTTYPE=image/jpeg:https://annarborwithkids.com/wp-content/uploads/
 NOCSlandscape2.0.jpg
CATEGORIES:Arbor Annie's Highlights,Author
 Event,Craft/Vendor,Crafts,Display Image,Elementary,Halloween,High
 Schoolers,Middle
 Schoolers,Movies,Music/Concerts,Parents,Preschoolers,Shopping,Storytime,To
 ddler
LOCATION:Depot Town\, Cross Street\, Ypsilanti\, Michigan\, 48198\, Ypsilan
 ti\, United States
GEO:42.2461462;-83.59825089999998
X-APPLE-STRUCTURED-LOCATION;VALUE=URI;X-ADDRESS=Cross Street\, Ypsilanti\, 
 Michigan\, 48198\, Ypsilanti\, United States;X-APPLE-RADIUS=100;X-TITLE=De
 pot Town:geo:42.2461462,-83.59825089999998
END:VEVENT
BEGIN:VTIMEZONE
TZID:America/Detroit
X-LIC-LOCATION:America/Detroit
BEGIN:DAYLIGHT
DTSTART:20250309T030000
TZOFFSETFROM:-0500
TZOFFSETTO:-0400
TZNAME:EDT
END:DAYLIGHT
END:VTIMEZONE
END:VCALENDAR