BEGIN:VCALENDAR
VERSION:2.0
PRODID:-//wp-events-plugin.com//7.2.3.1//EN
TZID:America/Detroit
X-WR-TIMEZONE:America/Detroit
BEGIN:VEVENT
UID:89893@annarborwithkids.com
DTSTART;TZID=America/Detroit:20251011T120000
DTEND;TZID=America/Detroit:20251011T170000
DTSTAMP:20251001T202944Z
URL:https://annarborwithkids.com/events/new-harvest-corn-maze-2025-10-11/
SUMMARY:New Harvest Corn Maze
DESCRIPTION:\nAs part of Chelsea's Hometown Halloween\, New Harvest Church 
 is hosting a corn maze. Held every Saturday in October. \n\n\n\nSuggested 
 donation of $10/adults and $5/those under 18.\n\n\n\nThey conclude the cel
 ebration on November 1 wih a Harvest Fest - there will be pumpkin carving\
 , games\, donuts\, &amp\; fun. The Harvest Fest is FREE.\n\n\n\n\n\n\n\n\n
 \n\n\n\n
CATEGORIES:Arbor Annie's Highlights,Elementary,Fall Fun,Halloween,High
 Schoolers,Middle Schoolers,Outdoor,Parents,Preschoolers
LOCATION:New Harvest\, 11875 Jackson Rd\, Dexter\, Michigan\, 48130\, Unite
 d States
GEO:42.294603;-83.965509
X-APPLE-STRUCTURED-LOCATION;VALUE=URI;X-ADDRESS=11875 Jackson Rd\, Dexter\,
  Michigan\, 48130\, United States;X-APPLE-RADIUS=100;X-TITLE=New Harvest:g
 eo:42.294603,-83.965509
END:VEVENT
BEGIN:VTIMEZONE
TZID:America/Detroit
X-LIC-LOCATION:America/Detroit
BEGIN:DAYLIGHT
DTSTART:20250309T030000
TZOFFSETFROM:-0500
TZOFFSETTO:-0400
TZNAME:EDT
END:DAYLIGHT
END:VTIMEZONE
END:VCALENDAR