BEGIN:VCALENDAR
VERSION:2.0
PRODID:-//wp-events-plugin.com//7.2.3.1//EN
TZID:America/Detroit
X-WR-TIMEZONE:America/Detroit
BEGIN:VEVENT
UID:92994@annarborwithkids.com
DTSTART;TZID=America/Detroit:20260403T103000
DTEND;TZID=America/Detroit:20260403T113000
DTSTAMP:20260311T162543Z
URL:https://annarborwithkids.com/events/natures-nightlife-with-leslie-scie
 nce-nature-center/
SUMMARY:Natures Nightlife with Leslie Science &amp\; Nature Center
DESCRIPTION:\nLeslie Science &amp\; Nature Center joins us for a program al
 l about what animals do after the sun goes down in this exciting explorati
 on into the world of nocturnal animals. Meet three different live animals 
 to learn why they choose to work in the dark and how they are adapted for 
 life at night.\n\n\n\nFor families with children ages 4-12.\n\n\n\nRegistr
 ation is required.\n\n\n\n\n\n\n
CATEGORIES:Advance Registration,Animals,Arbor Annie's
 Highlights,Elementary,Free,Indoor Activities,Preschoolers,Registration
 Required
LOCATION:Saline District Library\, 555 N. Maple Rd\, Saline\, Michigan\, 48
 176\, Saline\, United States
GEO:42.17779;-83.775429
X-APPLE-STRUCTURED-LOCATION;VALUE=URI;X-ADDRESS=555 N. Maple Rd\, Saline\, 
 Michigan\, 48176\, Saline\, United States;X-APPLE-RADIUS=100;X-TITLE=Salin
 e District Library:geo:42.17779,-83.775429
END:VEVENT
BEGIN:VTIMEZONE
TZID:America/Detroit
X-LIC-LOCATION:America/Detroit
BEGIN:DAYLIGHT
DTSTART:20260308T030000
TZOFFSETFROM:-0500
TZOFFSETTO:-0400
TZNAME:EDT
END:DAYLIGHT
END:VTIMEZONE
END:VCALENDAR