BEGIN:VCALENDAR
VERSION:2.0
PRODID:-//wp-events-plugin.com//7.2.3.1//EN
TZID:America/Detroit
X-WR-TIMEZONE:America/Detroit
BEGIN:VEVENT
UID:76298@annarborwithkids.com
DTSTART;TZID=America/Detroit:20240120T120000
DTEND;TZID=America/Detroit:20240120T130000
DTSTAMP:20240111T210022Z
URL:https://annarborwithkids.com/events/name-aliens/
SUMMARY:Name Aliens
DESCRIPTION:\nTurn your name into a "Name Alien" that you can color and mak
 e your own!\n\n\n\nFor grades K-8\n\n\n\n\n
CATEGORIES:Arbor Annie's Highlights,Crafts,Elementary,Free,Indoor
 Activities,Middle Schoolers
LOCATION:Malletts Creek Branch Library\, 3090 E Eisenhower Parkway\, Ann Ar
 bor\, Michigan\, 48108\, South\, United States
GEO:42.2436533;-83.71799220000003
X-APPLE-STRUCTURED-LOCATION;VALUE=URI;X-ADDRESS=3090 E Eisenhower Parkway\,
  Ann Arbor\, Michigan\, 48108\, South\, United States;X-APPLE-RADIUS=100;X
 -TITLE=Malletts Creek Branch Library:geo:42.2436533,-83.71799220000003
END:VEVENT
BEGIN:VTIMEZONE
TZID:America/Detroit
X-LIC-LOCATION:America/Detroit
BEGIN:STANDARD
DTSTART:20231105T010000
TZOFFSETFROM:-0400
TZOFFSETTO:-0500
TZNAME:EST
END:STANDARD
END:VTIMEZONE
END:VCALENDAR