BEGIN:VCALENDAR
VERSION:2.0
PRODID:-//wp-events-plugin.com//7.2.3.1//EN
TZID:America/Detroit
X-WR-TIMEZONE:America/Detroit
BEGIN:VEVENT
UID:93013@annarborwithkids.com
DTSTART;TZID=America/Detroit:20260429T150000
DTEND;TZID=America/Detroit:20260429T170000
DTSTAMP:20260317T212942Z
URL:https://annarborwithkids.com/events/my-turn-sensory-friendly-hours/
SUMMARY:My Turn: Sensory Friendly Hours
DESCRIPTION:\nThe Ann Arbor Hands-On Museum has brought back their My Turn 
 program that provides Sensory Friendly Hours to visit the Museum. My Turn 
 hours are 3-5p on the the last Wednesday of the month from March-May 2026.
 \n\n\n\nThanks to the generosity of community funders\, My Turn will be fr
 ee of charge for families during March\, April\, and May. Advance registra
 tion is required so our team can maintain a comfortable capacity and provi
 de the best possible experience for all guests.\n\n\n\nMy Turn is designed
  for any family with a young learner who would benefit from an adapted Mus
 eum environment with additional supports in place. During the My Turn hour
 s there will be fewer visitors at the museum. They will have designated br
 eak spaces throughout the museum and complimentary sensory bags and tools 
 to borrow.\n\n\n\nYou can prepare your child for the visit with their Soci
 al Story that describes going to the museum.\n\n\n\nPlease pre-reserve you
 r tickets for My Turn.\n\n\n\n\n\n[wpv-view name="activity-vignette"]\n
CATEGORIES:Arbor Annie's Highlights,Elementary,Free,High Schoolers,Indoor
 Activities,Middle Schoolers,Preschoolers,Special Needs
LOCATION:Ann Arbor Hands-On Museum\, 220 E Ann St\, Ann Arbor\, MI\, 48104\
 , United States
GEO:42.281722;-83.746557
X-APPLE-STRUCTURED-LOCATION;VALUE=URI;X-ADDRESS=220 E Ann St\, Ann Arbor\, 
 MI\, 48104\, United States;X-APPLE-RADIUS=100;X-TITLE=Ann Arbor Hands-On M
 useum:geo:42.281722,-83.746557
END:VEVENT
BEGIN:VTIMEZONE
TZID:America/Detroit
X-LIC-LOCATION:America/Detroit
BEGIN:DAYLIGHT
DTSTART:20260308T030000
TZOFFSETFROM:-0500
TZOFFSETTO:-0400
TZNAME:EDT
END:DAYLIGHT
END:VTIMEZONE
END:VCALENDAR