BEGIN:VCALENDAR
VERSION:2.0
PRODID:-//wp-events-plugin.com//7.2.3.1//EN
TZID:America/Detroit
X-WR-TIMEZONE:America/Detroit
BEGIN:VEVENT
UID:53869@annarborwithkids.com
DTSTART;TZID=America/Detroit:20251018T174500
DTEND;TZID=America/Detroit:20251018T194500
DTSTAMP:20250912T212130Z
URL:https://annarborwithkids.com/events/muttster-mash-bash-halloween-event
 -for-kids/
SUMMARY:Muttster Mash - Halloween Party for Kids
DESCRIPTION:\nGet ready for a spooktacular time at the Humane Society of Hu
 ron Valley! This event will include family friendly activities throughout 
 the shelter that will leave your kids smiling and their treat bags full of
  goodies!\n\n\n\nThere wil be:\n\n\n\n\nGames\n\n\n\nTrick or Treating\n\n
 \n\nCrafts for the animals\n\n\n\nPictures with Felicity Feline\n\n\n\nDog
  meet &amp\; greet\n\n\n\nand More\n\n\n\n\nPre-registration required. No 
 tickets will be sold at the door. Tickets are available for either a 5:45p
 \, 6p\, 6:15p\, 6:30p. 6:45p\, or 7p arrival time. Please arrive no more t
 han 5 minutes before your scheduled arrival time.\n\n\n\nThe event is $12/
 child (ages 1+). Adults are free and limited to 2 per child. The event is 
 geared to ages 4-10\n\n\n\nGet your tickets now before they sell out.\n\n\
 n\n\n\n\n\n\n
ATTACH;FMTTYPE=image/jpeg:https://annarborwithkids.com/wp-content/uploads/
 hshv-muttster-mash-bash.jpg
CATEGORIES:Advance Registration,Animals,Arbor Annie's
 Highlights,Elementary,Halloween,Indoor
 Activities,Preschoolers,Registration Required,Trick or Treat
LOCATION:Humane Society of Huron Valley\, 3100 Cherry Hill Rd\, Ann Arbor\,
  Michigan\, 48105\, Northeast\, United States
GEO:42.3061398;-83.6549493
X-APPLE-STRUCTURED-LOCATION;VALUE=URI;X-ADDRESS=3100 Cherry Hill Rd\, Ann A
 rbor\, Michigan\, 48105\, Northeast\, United States;X-APPLE-RADIUS=100;X-T
 ITLE=Humane Society of Huron Valley:geo:42.3061398,-83.6549493
END:VEVENT
BEGIN:VTIMEZONE
TZID:America/Detroit
X-LIC-LOCATION:America/Detroit
BEGIN:DAYLIGHT
DTSTART:20250309T030000
TZOFFSETFROM:-0500
TZOFFSETTO:-0400
TZNAME:EDT
END:DAYLIGHT
END:VTIMEZONE
END:VCALENDAR