BEGIN:VCALENDAR
VERSION:2.0
PRODID:-//wp-events-plugin.com//7.2.3.1//EN
TZID:America/Detroit
X-WR-TIMEZONE:America/Detroit
BEGIN:VEVENT
UID:93594@annarborwithkids.com
DTSTART;TZID=America/Detroit:20260509T170000
DTEND;TZID=America/Detroit:20260509T183000
DTSTAMP:20260424T182305Z
URL:https://annarborwithkids.com/events/musical-performance-hidden/
SUMMARY:Musical Performance | Hidden
DESCRIPTION:\nHidden is a musical by David &amp\; Jenny Heitler-Klevans ba
 sed on the true story of Ruth Kapp Hartz\, who as a young Jewish girl was 
 hidden in Southern France during World War II. From a secret apartment to
  a basement hideout to a Catholic orphanage in a convent\, she must hide h
 er true identity and learn to survive a series of harrowing events. \n\n\n
 \nA selection of songs from the musical will be performed live. Following 
 the event\, the performers will be available for a brief Q&amp\;A. More in
 formation on Hidden can be found here. \n\n\n\nFor teens &amp\; adults
 . Held in Lower Level Program Room\n\n\n\n\n
CATEGORIES:Arbor Annie's Highlights,Free,High Schoolers,History,Indoor
 Activities,Middle Schoolers,Music/Concerts,Theater
LOCATION:Downtown Branch of AADL\, 343 South Fifth Avenue\, Ann Arbor\, Mic
 higan\, 48104\, Downtown\, United States
GEO:42.278198;-83.745971
X-APPLE-STRUCTURED-LOCATION;VALUE=URI;X-ADDRESS=343 South Fifth Avenue\, An
 n Arbor\, Michigan\, 48104\, Downtown\, United States;X-APPLE-RADIUS=100;X
 -TITLE=Downtown Branch of AADL:geo:42.278198,-83.745971
END:VEVENT
BEGIN:VTIMEZONE
TZID:America/Detroit
X-LIC-LOCATION:America/Detroit
BEGIN:DAYLIGHT
DTSTART:20260308T030000
TZOFFSETFROM:-0500
TZOFFSETTO:-0400
TZNAME:EDT
END:DAYLIGHT
END:VTIMEZONE
END:VCALENDAR