BEGIN:VCALENDAR
VERSION:2.0
PRODID:-//wp-events-plugin.com//7.2.3.1//EN
TZID:America/Detroit
X-WR-TIMEZONE:America/Detroit
BEGIN:VEVENT
UID:50828@annarborwithkids.com
DTSTART;TZID=America/Detroit:20190923T160000
DTEND;TZID=America/Detroit:20191202T164500
DTSTAMP:20190910T213243Z
URL:https://annarborwithkids.com/event-recurring/music-movement/
SUMMARY:Music &amp\; Movement
DESCRIPTION:Fall Class Schedule:\nMondays: 4:00-4:45PM\n\nAges: 3 -4 years\
 n\n10 week series + dance performance\n\nSept 23 – Dec 2 (No class\; Nov
  25)\n\nDance Performance: December 9\n\n10 classes: $125.00\n\n&nbsp\;\nM
 usic &amp\; Movement \nIn this class\, preschool-aged children will learn
  through both the use of instruments\, song and dance. As an introduction 
 into what could be potentially be a child’s life long passion for dance 
 by the use of ballet concepts and terminology\, students will develop conf
 idence and independence. There will be a performance concluding the end of
  the session.
ATTACH;FMTTYPE=image/jpeg:https://annarborwithkids.com/wp-content/uploads/
 2019/04/IMG_6410-1.jpg
CATEGORIES:Advance Registration,Dance,Display Image,Indoor
 Activities,Music,Preschoolers
LOCATION:Peachy Fitness\, 2385 S. Huron Parkway\, Ann Arbor\, Michigan\, 48
 104\, Ann Arbor\, United States
GEO:42.252792;-83.698441
X-APPLE-STRUCTURED-LOCATION;VALUE=URI;X-ADDRESS=2385 S. Huron Parkway\, Ann
  Arbor\, Michigan\, 48104\, Ann Arbor\, United States;X-APPLE-RADIUS=100;X
 -TITLE=Peachy Fitness:geo:42.252792,-83.698441
END:VEVENT
BEGIN:VTIMEZONE
TZID:America/Detroit
X-LIC-LOCATION:America/Detroit
BEGIN:DAYLIGHT
DTSTART:20190310T030000
TZOFFSETFROM:-0500
TZOFFSETTO:-0400
TZNAME:EDT
END:DAYLIGHT
BEGIN:STANDARD
DTSTART:20191103T010000
TZOFFSETFROM:-0400
TZOFFSETTO:-0500
TZNAME:EST
END:STANDARD
END:VTIMEZONE
END:VCALENDAR