BEGIN:VCALENDAR
VERSION:2.0
PRODID:-//wp-events-plugin.com//7.2.3.1//EN
TZID:America/Detroit
X-WR-TIMEZONE:America/Detroit
BEGIN:VEVENT
UID:93599@annarborwithkids.com
DTSTART;TZID=America/Detroit:20260514T150000
DTEND;TZID=America/Detroit:20260514T160000
DTSTAMP:20260424T184352Z
URL:https://annarborwithkids.com/events/muppet-paper-bag-puppet/
SUMMARY:Muppet Paper Bag Puppet
DESCRIPTION:\nCreate your own Muppets-style puppet out of a paper bag. Will
  your character have eyebrows? Or pointy teeth? Or a tongue? Make a few pu
 ppets and then create your own Muppet Show at home!\n\n\n\nThis event is g
 eared towards kids in grades K-5\n\n\n
CATEGORIES:Arbor Annie's Highlights,Crafts,Elementary,Free,Indoor
 Activities
LOCATION:Pittsfield Branch Library\, 2359 Oak Valley Dr\, Ann Arbor\, Michi
 gan\, 48103\, Pittsfield\, United States
GEO:42.2526001;-83.77801540000002
X-APPLE-STRUCTURED-LOCATION;VALUE=URI;X-ADDRESS=2359 Oak Valley Dr\, Ann Ar
 bor\, Michigan\, 48103\, Pittsfield\, United States;X-APPLE-RADIUS=100;X-T
 ITLE=Pittsfield Branch Library:geo:42.2526001,-83.77801540000002
END:VEVENT
BEGIN:VTIMEZONE
TZID:America/Detroit
X-LIC-LOCATION:America/Detroit
BEGIN:DAYLIGHT
DTSTART:20260308T030000
TZOFFSETFROM:-0500
TZOFFSETTO:-0400
TZNAME:EDT
END:DAYLIGHT
END:VTIMEZONE
END:VCALENDAR