BEGIN:VCALENDAR
VERSION:2.0
PRODID:-//wp-events-plugin.com//7.2.3.1//EN
TZID:America/Detroit
X-WR-TIMEZONE:America/Detroit
BEGIN:VEVENT
UID:85557@annarborwithkids.com
DTSTART;TZID=America/Detroit:20250413T090000
DTEND;TZID=America/Detroit:20250413T103000
DTSTAMP:20250402T204339Z
URL:https://annarborwithkids.com/events/muffins-with-bunny/
SUMMARY:Muffins with Bunny
DESCRIPTION:\nLincoln High School Class of 2027 is holding a Muffins with B
 unny Fundraiser\n\n\n\nThe event includes:\n\n\n\n\nMuffin\n\n\n\nJuice\n\
 n\n\nCraft\n\n\n\nProfessional Digital Photo with the Easter Bunny (sent v
 ia Email)\n\n\n\nActivities\n\n\n\n\nRegister online.\n\n\n\n\nhttps://www
 .facebook.com/lincolnconsolidated.schools/posts/pfbid021WNMP5mzKtZXrsyBzwW
 7fDbvoagfKhhc1iVDqdDJyN5fcsY6TQ2GoAangUUNYBoHl\n\n\n\n\n\n\n\n
CATEGORIES:Advance Registration,Arbor Annie's Highlights,Charitable
 Event,Easter,Easter Bunny,Elementary,Food,Indoor
 Activities,Other,Preschoolers,School Fundraiser,Toddler
LOCATION:Childs Elementary School\, 7300 Bemis Road\, Ypsilanti\, Michigan\
 , 48197\, Ypsilanti Township\, United States
GEO:42.1714008;-83.61447199999998
X-APPLE-STRUCTURED-LOCATION;VALUE=URI;X-ADDRESS=7300 Bemis Road\, Ypsilanti
 \, Michigan\, 48197\, Ypsilanti Township\, United States;X-APPLE-RADIUS=10
 0;X-TITLE=Childs Elementary School:geo:42.1714008,-83.61447199999998
END:VEVENT
BEGIN:VTIMEZONE
TZID:America/Detroit
X-LIC-LOCATION:America/Detroit
BEGIN:DAYLIGHT
DTSTART:20250309T030000
TZOFFSETFROM:-0500
TZOFFSETTO:-0400
TZNAME:EDT
END:DAYLIGHT
END:VTIMEZONE
END:VCALENDAR