BEGIN:VCALENDAR
VERSION:2.0
PRODID:-//wp-events-plugin.com//7.2.3.1//EN
TZID:America/Detroit
X-WR-TIMEZONE:America/Detroit
BEGIN:VEVENT
UID:93346@annarborwithkids.com
DTSTART;TZID=America/Detroit:20260502T140000
DTEND;TZID=America/Detroit:20260502T150000
DTSTAMP:20260324T190719Z
URL:https://annarborwithkids.com/events/mothers-day-kangaroo-love-kids-pai
 nting-party/
SUMMARY:Mother's Day Kangaroo Love - Kids Painting pARTy
DESCRIPTION:\nKids will have fun painting an adorable kangaroo and her joey
  while exploring color and creativity as they bring this sweet scene to li
 fe! This charming artwork will make a lovely Mother’s Day gift for mom\,
  grandma\, or a special lady in your child’s life. A complimentary treat
  for all!\n\n\n\nFor ages 5-12.\n\n\n\nMake sure to wear old clothing or a
  smock. \n\n\n\n\n
CATEGORIES:Advance Registration,Arbor Annie's
 Highlights,Art,Classes,Crafts,Elementary,Indoor Activities,Mother's
 Day,Registration Required
LOCATION:Whitepine Studios\, 141 E Michigan Avenue\, Suite B\, Saline\, Mic
 higan\, 48176\, United States
GEO:42.167252;-83.780757
X-APPLE-STRUCTURED-LOCATION;VALUE=URI;X-ADDRESS=141 E Michigan Avenue\, Sui
 te B\, Saline\, Michigan\, 48176\, United States;X-APPLE-RADIUS=100;X-TITL
 E=Whitepine Studios:geo:42.167252,-83.780757
END:VEVENT
BEGIN:VTIMEZONE
TZID:America/Detroit
X-LIC-LOCATION:America/Detroit
BEGIN:DAYLIGHT
DTSTART:20260308T030000
TZOFFSETFROM:-0500
TZOFFSETTO:-0400
TZNAME:EDT
END:DAYLIGHT
END:VTIMEZONE
END:VCALENDAR