BEGIN:VCALENDAR
VERSION:2.0
PRODID:-//wp-events-plugin.com//7.2.3.1//EN
TZID:America/Detroit
X-WR-TIMEZONE:America/Detroit
BEGIN:VEVENT
UID:84808@annarborwithkids.com
DTSTART;TZID=America/Detroit:20260510T100000
DTEND;TZID=America/Detroit:20260510T140000
DTSTAMP:20260416T232712Z
URL:https://annarborwithkids.com/events/mothers-day-brunch-at-venue/
SUMMARY:Mother's Day Brunch at Venue
DESCRIPTION:\nVenue is now accepting reservations for Mother's Day 2025!\n\
 n\n\nTheir Mother's Day Brunch will be buffet style with seatings at 10am 
 and 12:30pm. Chef Thad is planning a delicious menu. More details availabl
 e soon.\n\n\n\nAdults are $38 ($46 with gratuity)\, Kids from 3 to 11 are 
 $16 ($19.20 with gratuity)\, and children under 2 are no charge.\n\n\n\nCo
 ffee\, tea\, soda\, milk\, &amp\; apple juice are included.\n\n\n\n\n
CATEGORIES:Advance Registration,Babies,Elementary,Food,High
 Schoolers,Indoor Activities,Meal,Middle Schoolers,Mother's
 Day,Parents,Preschoolers,Registration Required,Toddler
LOCATION:VENUE\, 1919 S Industrial Highway\, Ann Arbor\, Michigan\, 48104\,
  South Ann Arbor\, United States
GEO:42.259777;-83.736681
X-APPLE-STRUCTURED-LOCATION;VALUE=URI;X-ADDRESS=1919 S Industrial Highway\,
  Ann Arbor\, Michigan\, 48104\, South Ann Arbor\, United States;X-APPLE-RA
 DIUS=100;X-TITLE=VENUE:geo:42.259777,-83.736681
END:VEVENT
BEGIN:VTIMEZONE
TZID:America/Detroit
X-LIC-LOCATION:America/Detroit
BEGIN:DAYLIGHT
DTSTART:20260308T030000
TZOFFSETFROM:-0500
TZOFFSETTO:-0400
TZNAME:EDT
END:DAYLIGHT
END:VTIMEZONE
END:VCALENDAR