BEGIN:VCALENDAR
VERSION:2.0
PRODID:-//wp-events-plugin.com//7.2.3.1//EN
TZID:America/Detroit
X-WR-TIMEZONE:America/Detroit
BEGIN:VEVENT
UID:93360@annarborwithkids.com
DTSTART;TZID=America/Detroit:20260510T100000
DTEND;TZID=America/Detroit:20260510T140000
DTSTAMP:20260325T211404Z
URL:https://annarborwithkids.com/events/mothers-day-brunch-at-lake-forest-
 golf-club/
SUMMARY:Mother's Day Brunch at Lake Forest Golf Club
DESCRIPTION:\nLake Forest Golf Club is offering a Mother's Day Brunch.\n\n\
 n\nBreakfast items on the menu include an omelette station\, Belgian waffl
 es\, eggs &amp\; bacon\, and biscuits &amp\; gravy. Lunch items include he
 rb roasted chicken\, shrimp pasta salad\, mac &amp\; cheese &amp\; ore.\n\
 n\n\nPricing is $38/adults (14+)\, $18/children 4-13\, FREE/kids 3 &amp\; 
 under. A $50 deposit is due on reservation.\n\n\n\nReservations are limite
 d and required. The website says to call to inquire.\n\n\n\n\n
CATEGORIES:Advance Registration,Arbor Annie's
 Highlights,Babies,Elementary,Food,High Schoolers,Indoor
 Activities,Meal,Middle Schoolers,Mother's Day,Parents,Preschoolers,Toddler
LOCATION:Lake Forest Golf Club\, 3110 W Ellsworth Rd\, Ann Arbor\, Michigan
  \, 48103\, United States
GEO:42.23025;-83.783018
X-APPLE-STRUCTURED-LOCATION;VALUE=URI;X-ADDRESS=3110 W Ellsworth Rd\, Ann A
 rbor\, Michigan \, 48103\, United States;X-APPLE-RADIUS=100;X-TITLE=Lake F
 orest Golf Club:geo:42.23025,-83.783018
END:VEVENT
BEGIN:VTIMEZONE
TZID:America/Detroit
X-LIC-LOCATION:America/Detroit
BEGIN:DAYLIGHT
DTSTART:20260308T030000
TZOFFSETFROM:-0500
TZOFFSETTO:-0400
TZNAME:EDT
END:DAYLIGHT
END:VTIMEZONE
END:VCALENDAR