BEGIN:VCALENDAR
VERSION:2.0
PRODID:-//wp-events-plugin.com//7.2.3.1//EN
TZID:America/Detroit
X-WR-TIMEZONE:America/Detroit
BEGIN:VEVENT
UID:32986@annarborwithkids.com
DTSTART;TZID=America/Detroit:20250914T130000
DTEND;TZID=America/Detroit:20250914T160000
DTSTAMP:20250818T180716Z
URL:https://annarborwithkids.com/events/monarch-migration-festival-3/
SUMMARY:Monarch Migration Festival
DESCRIPTION:\nJoin the Leslie Science and Nature Center for their 12th annu
 al Monarch Migration Festival! Every year\, waves of these butterflies mig
 rate over mountains\, deserts\, and plains in the United States to reach t
 heir wintering grounds in Mexico. By registering for this event\, you are 
 helping contribute to the conservation efforts put in place to protect the
 se incredible butterflies locally and nationally.\n\n\n\nAdvance registrat
 ion is required to participate in the main event. Your registration will i
 nclude a butterfly to release. Walk up attendees can attend and participat
 e in games/activities but will not be guaranteed a butterfly to release.\n
 \n\n\n\n\nActivities include:\n\n\n\n\nButterfly Tent\n\n\n\nFacepainting\
 n\n\n\nUp-close Animal meetings\n\n\n\nTalk to local organizations\n\n\n\n
 \nConsider purchasing a pollinator pack  at the event for $25.\n\n\n\n\nNa
 tive Wildflower Seeds\n\n\n\nMason Bee Nesting Tubes\n\n\n\nLocal pollinat
 ors field guide\n\n\n\nButterfly Magnets\n\n\n\nOther resources from local
  conservation partners.\n\n\n\n\n\n\n\n\n\n
CATEGORIES:Advance Registration,Animals,Arbor Annie's
 Highlights,Elementary,High Schoolers,Middle Schoolers,Parents,Preschoolers
LOCATION:Leslie Science & Nature Center\, 1831 Traver Rd\, Ann Arbor\, MI\,
  48105\, North Ann Arbor\, United States
GEO:42.30078700000001;-83.73028399999998
X-APPLE-STRUCTURED-LOCATION;VALUE=URI;X-ADDRESS=1831 Traver Rd\, Ann Arbor\
 , MI\, 48105\, North Ann Arbor\, United States;X-APPLE-RADIUS=100;X-TITLE=
 Leslie Science & Nature Center:geo:42.30078700000001,-83.73028399999998
END:VEVENT
BEGIN:VTIMEZONE
TZID:America/Detroit
X-LIC-LOCATION:America/Detroit
BEGIN:DAYLIGHT
DTSTART:20250309T030000
TZOFFSETFROM:-0500
TZOFFSETTO:-0400
TZNAME:EDT
END:DAYLIGHT
END:VTIMEZONE
END:VCALENDAR