BEGIN:VCALENDAR
VERSION:2.0
PRODID:-//wp-events-plugin.com//7.2.3.1//EN
TZID:America/Detroit
X-WR-TIMEZONE:America/Detroit
BEGIN:VEVENT
UID:93343@annarborwithkids.com
DTSTART;TZID=America/Detroit:20260510T120000
DTEND;TZID=America/Detroit:20260510T140000
DTSTAMP:20260324T184929Z
URL:https://annarborwithkids.com/events/mommy-me-were-owl-together-tipsy-y
 psi/
SUMMARY:Mommy &amp\; Me: We're Owl Together - Tipsy Ypsi
DESCRIPTION:\nFor this special family class\, kids and adults paint togethe
 r to complete a special one-of-a-kind keepsake painting! \n\n\n\nMama Owl 
 will be waiting on a 16×20 canvas (for the adults) and all her little one
 s will follow along on 11×14 canvases (for the kids)! There is no limit t
 o the number of little ones that can follow\, select the number you would 
 like of each painting in the ticket field below. One canvas per painter.\
 n\n\n\n\n
CATEGORIES:Advance Registration,Arbor Annie's
 Highlights,Art,Crafts,Elementary,Indoor Activities,Middle
 Schoolers,Mother's Day,Parents,Registration Required
LOCATION:Tipsy Ypsi Paint & Pour\, 5 S Washington St\, Ypsilanti\, MI - Mic
 higan\, 48197\, MI - Michigan\, United States
GEO:42.240618;-83.61441
X-APPLE-STRUCTURED-LOCATION;VALUE=URI;X-ADDRESS=5 S Washington St\, Ypsilan
 ti\, MI - Michigan\, 48197\, MI - Michigan\, United States;X-APPLE-RADIUS=
 100;X-TITLE=Tipsy Ypsi Paint & Pour:geo:42.240618,-83.61441
END:VEVENT
BEGIN:VTIMEZONE
TZID:America/Detroit
X-LIC-LOCATION:America/Detroit
BEGIN:DAYLIGHT
DTSTART:20260308T030000
TZOFFSETFROM:-0500
TZOFFSETTO:-0400
TZNAME:EDT
END:DAYLIGHT
END:VTIMEZONE
END:VCALENDAR