BEGIN:VCALENDAR
VERSION:2.0
PRODID:-//wp-events-plugin.com//7.2.3.1//EN
TZID:America/Detroit
X-WR-TIMEZONE:America/Detroit
BEGIN:VEVENT
UID:80853@annarborwithkids.com
DTSTART;TZID=America/Detroit:20251108T100000
DTEND;TZID=America/Detroit:20251108T104500
DTSTAMP:20250818T223034Z
URL:https://annarborwithkids.com/events/mommy-and-me-silly-pumpkin-patch/
SUMMARY:Mommy and Me - Personalized Scarecrow
DESCRIPTION:\nJoin Whitepine Studios for a special Mommy &amp\; Me workshop
 &nbsp\;for fall. \n\n\n\nYour little one paint an 8x10 artwork of their ad
 orable fall scarecrow and personalize it with their name. They'll top it o
 ff with a fall colored leaf .\n\n\n\nDesigned for ages 3-7 who must be acc
 ompanied by a caregiver (ages 18+). Kids ages 8+ can participate on their 
 own.\n\n\n\nBe prepared to get messy. Wear old clothes and/or bring a smoc
 k.\n\n\n\n\n
CATEGORIES:Advance Registration,Arbor Annie's
 Highlights,Art,Classes,Crafts,Elementary,Fall Fun,Indoor
 Activities,Preschoolers,Registration Required,Thanksgiving,Toddler
LOCATION:Whitepine Studios\, 141 E Michigan Avenue\, Suite B\, Saline\, Mic
 higan\, 48176\, United States
GEO:42.167252;-83.780757
X-APPLE-STRUCTURED-LOCATION;VALUE=URI;X-ADDRESS=141 E Michigan Avenue\, Sui
 te B\, Saline\, Michigan\, 48176\, United States;X-APPLE-RADIUS=100;X-TITL
 E=Whitepine Studios:geo:42.167252,-83.780757
END:VEVENT
BEGIN:VTIMEZONE
TZID:America/Detroit
X-LIC-LOCATION:America/Detroit
BEGIN:STANDARD
DTSTART:20251102T010000
TZOFFSETFROM:-0400
TZOFFSETTO:-0500
TZNAME:EST
END:STANDARD
END:VTIMEZONE
END:VCALENDAR