BEGIN:VCALENDAR
VERSION:2.0
PRODID:-//wp-events-plugin.com//7.2.3.1//EN
TZID:America/Detroit
X-WR-TIMEZONE:America/Detroit
BEGIN:VEVENT
UID:81293@annarborwithkids.com
DTSTART;TZID=America/Detroit:20241012T100000
DTEND;TZID=America/Detroit:20241012T110000
DTSTAMP:20251001T212514Z
URL:https://annarborwithkids.com/events/mommy-and-me-ghost-tea-lights/
SUMMARY:Mommy and Me - Ghost Tea Lights
DESCRIPTION:\nWhitepine Studios holds Mommy and Me classes periodically.\n\
 n\n\nThis workshop is for ages 4-7 with a parent/caregiver or kids ages 8-
 12.\n\n\n\nJoin Whitepine Studios for a spooky clay adventure where we wil
 l create either Mr. or Mrs. Ghost just in time for Halloween. Gather with 
 mom\, dad\, grandparents\, or others and the kids for a crafting experienc
 e that's both fun and heartwarming. Using a rolled slab\, you'll create a 
 draped ghost adorned with either a top hat or bow—your choice! They will
  glaze the finished pieces. This workshop will need four participants to r
 un.\n\n\n\nRegistration is for child only\, the caregiver is included. Car
 egiver must be over 21.\n\n\n\n\n\n\n\n\n
CATEGORIES:Advance Registration,Arbor Annie's
 Highlights,Art,Classes,Crafts,Elementary,Fall Fun,Halloween,Indoor
 Activities,Preschoolers,Sold Out
LOCATION:Whitepine Studios\, 141 E Michigan Avenue\, Suite B\, Saline\, Mic
 higan\, 48176\, United States
GEO:42.167252;-83.780757
X-APPLE-STRUCTURED-LOCATION;VALUE=URI;X-ADDRESS=141 E Michigan Avenue\, Sui
 te B\, Saline\, Michigan\, 48176\, United States;X-APPLE-RADIUS=100;X-TITL
 E=Whitepine Studios:geo:42.167252,-83.780757
END:VEVENT
BEGIN:VTIMEZONE
TZID:America/Detroit
X-LIC-LOCATION:America/Detroit
BEGIN:DAYLIGHT
DTSTART:20240310T030000
TZOFFSETFROM:-0500
TZOFFSETTO:-0400
TZNAME:EDT
END:DAYLIGHT
END:VTIMEZONE
END:VCALENDAR