BEGIN:VCALENDAR
VERSION:2.0
PRODID:-//wp-events-plugin.com//7.2.3.1//EN
TZID:America/Detroit
X-WR-TIMEZONE:America/Detroit
BEGIN:VEVENT
UID:92599@annarborwithkids.com
DTSTART;TZID=America/Detroit:20260328T130000
DTEND;TZID=America/Detroit:20260328T150000
DTSTAMP:20260320T020502Z
URL:https://annarborwithkids.com/events/moana-party-and-dance-performance-
 with-polynesian-dancers-of-michigan/
SUMMARY:Moana Party and Dance Performance with Polynesian Dancers of Michig
 an
DESCRIPTION:\nEnjoy a Polynesian inspired craft and interactive dance perfo
 rmance featuring Moana and the Polynesian Dancers of Michigan!\n\n\n\nFor 
 grades K-Adult. Held in First Floor Lobby.\n
CATEGORIES:Arbor Annie's Highlights,BIPOC,Crafts,Cultural
 Celebration,Dance,Elementary,High Schoolers,Middle Schoolers,Parents
LOCATION:Downtown Branch of AADL\, 343 South Fifth Avenue\, Ann Arbor\, Mic
 higan\, 48104\, Downtown\, United States
GEO:42.278198;-83.745971
X-APPLE-STRUCTURED-LOCATION;VALUE=URI;X-ADDRESS=343 South Fifth Avenue\, An
 n Arbor\, Michigan\, 48104\, Downtown\, United States;X-APPLE-RADIUS=100;X
 -TITLE=Downtown Branch of AADL:geo:42.278198,-83.745971
END:VEVENT
BEGIN:VTIMEZONE
TZID:America/Detroit
X-LIC-LOCATION:America/Detroit
BEGIN:DAYLIGHT
DTSTART:20260308T030000
TZOFFSETFROM:-0500
TZOFFSETTO:-0400
TZNAME:EDT
END:DAYLIGHT
END:VTIMEZONE
END:VCALENDAR