BEGIN:VCALENDAR
VERSION:2.0
PRODID:-//wp-events-plugin.com//7.2.3.1//EN
TZID:America/Detroit
X-WR-TIMEZONE:America/Detroit
BEGIN:VEVENT
UID:93510@annarborwithkids.com
DTSTART;TZID=America/Detroit:20260425T130000
DTEND;TZID=America/Detroit:20260425T150000
DTSTAMP:20260410T022304Z
URL:https://annarborwithkids.com/events/mini-med-school/
SUMMARY:Mini Med School
DESCRIPTION:\nHoney Bee Pediatrics is offering a 2 hour hands-on Mini Med S
 chool workshop for children ages 7-10.\n\n\n\nThe workshop includes:\n\n\n
 \n\nTaking vitals\n\n\n\nUsing doctor tools\n\n\n\nSafe suturing and casti
 ng a teddy bear\n\n\n\nMini CPR\n\n\n\nHandwashing experiment\n\n\n\nand m
 ore \n\n\n\n\nChildren get to keep a custom white coat and badge\, teddy b
 ear and stethoscope. \n
CATEGORIES:Advance Registration,Arbor Annie's
 Highlights,Elementary,Health,Indoor Activities,Registration Required
LOCATION:Honey Bee Pediatrics\, 2200 Green Rd Suite H\, Ann Arbor\, Michiga
 n\, 48105\, United States
GEO:42.306772;-83.691726
X-APPLE-STRUCTURED-LOCATION;VALUE=URI;X-ADDRESS=2200 Green Rd Suite H\, Ann
  Arbor\, Michigan\, 48105\, United States;X-APPLE-RADIUS=100;X-TITLE=Honey
  Bee Pediatrics:geo:42.306772,-83.691726
END:VEVENT
BEGIN:VTIMEZONE
TZID:America/Detroit
X-LIC-LOCATION:America/Detroit
BEGIN:DAYLIGHT
DTSTART:20260308T030000
TZOFFSETFROM:-0500
TZOFFSETTO:-0400
TZNAME:EDT
END:DAYLIGHT
END:VTIMEZONE
END:VCALENDAR