BEGIN:VCALENDAR
VERSION:2.0
PRODID:-//wp-events-plugin.com//7.2.3.1//EN
TZID:America/Detroit
X-WR-TIMEZONE:America/Detroit
BEGIN:VEVENT
UID:39244@annarborwithkids.com
DTSTART;TZID=America/Detroit:20260604T140000
DTEND;TZID=America/Detroit:20260604T154500
DTSTAMP:20260312T171026Z
URL:https://annarborwithkids.com/events/mini-mastodon/
SUMMARY:Mini Mastodon
DESCRIPTION:\nCelebrate the last day of school at the 11th annual fun run e
 vent. Come prepared to climb over walls\, jumps over and crawl through obj
 ectsm conquer our obstacle course adn get soaked at the end.\n\n\n\nThe Mi
 ni Masodon is the kick off event for Rec on the Go\, a free summer playgro
 und program held at local Saline parks this summer.\n\n\n\nThe event is fo
 r ages 5-12. Pre-registration is required online.\n\n\n\nAvailable time sl
 ots are 2p\, 2:15p\, 2:30p\, or 2:45p. Space is limited. No drop ins or da
 y of registration.\n\n\n\n[wpv-view name="linked-playground"]\n
CATEGORIES:Advance Registration,Arbor Annie's
 Highlights,Elementary,Fitness/Health,Free,Middle Schoolers,Sport
LOCATION:Tefft Park\, 1866 Woodland Dr\, Saline\, MI\, 48176\, Saline\, Uni
 ted States
GEO:42.195868;-83.766432
X-APPLE-STRUCTURED-LOCATION;VALUE=URI;X-ADDRESS=1866 Woodland Dr\, Saline\,
  MI\, 48176\, Saline\, United States;X-APPLE-RADIUS=100;X-TITLE=Tefft Park
 :geo:42.195868,-83.766432
END:VEVENT
BEGIN:VTIMEZONE
TZID:America/Detroit
X-LIC-LOCATION:America/Detroit
BEGIN:DAYLIGHT
DTSTART:20260308T030000
TZOFFSETFROM:-0500
TZOFFSETTO:-0400
TZNAME:EDT
END:DAYLIGHT
END:VTIMEZONE
END:VCALENDAR