BEGIN:VCALENDAR
VERSION:2.0
PRODID:-//wp-events-plugin.com//7.2.3.1//EN
TZID:America/Detroit
X-WR-TIMEZONE:America/Detroit
BEGIN:VEVENT
UID:93900@annarborwithkids.com
DTSTART;TZID=America/Detroit:20260704T090000
DTEND;TZID=America/Detroit:20260704T130000
DTSTAMP:20260424T205319Z
URL:https://annarborwithkids.com/events/mini-market-3/
SUMMARY:Mini-Market
DESCRIPTION:\nYpsilanti Farmers Market will be holding a Mini-Market at B-C
 ubed Bakery. It's a great time to stop in and get some fresh produce.\n\n\
 n\n\n
CATEGORIES:Arbor Annie's Highlights,Elementary,Farmers Market,Food,High
 Schoolers,Middle Schoolers,Parents
LOCATION:B-Cubed Bakery\, 741 Emerick St\, Ypsilanti\, Michigan\, 48198\, U
 nited States
GEO:42.230695;-83.596572
X-APPLE-STRUCTURED-LOCATION;VALUE=URI;X-ADDRESS=741 Emerick St\, Ypsilanti\
 , Michigan\, 48198\, United States;X-APPLE-RADIUS=100;X-TITLE=B-Cubed Bake
 ry:geo:42.230695,-83.596572
END:VEVENT
BEGIN:VTIMEZONE
TZID:America/Detroit
X-LIC-LOCATION:America/Detroit
BEGIN:DAYLIGHT
DTSTART:20260308T030000
TZOFFSETFROM:-0500
TZOFFSETTO:-0400
TZNAME:EDT
END:DAYLIGHT
END:VTIMEZONE
END:VCALENDAR