BEGIN:VCALENDAR
VERSION:2.0
PRODID:-//wp-events-plugin.com//7.2.3.1//EN
TZID:America/Detroit
X-WR-TIMEZONE:America/Detroit
BEGIN:VEVENT
UID:87749@annarborwithkids.com
DTSTART;TZID=America/Detroit:20250619T160000
DTEND;TZID=America/Detroit:20250619T180000
DTSTAMP:20250619T183828Z
URL:https://annarborwithkids.com/events/milkshake-happy-hour-2025-06-19/
SUMMARY:Milkshake Happy Hour
DESCRIPTION:\nJoin MilkShake Factory for Milkshake Happy Hour every Thursda
 y from 4-6pm!\n\n\n\nTheir Classic milkshakes are only $5.Choose from Vani
 lla\, Chocolate\, Raspberry\, Cookies n Cream\, Strawberry\, and Mint Chip
 \n
CATEGORIES:Elementary,Food,High Schoolers,Middle
 Schoolers,Parents,Preschoolers,Toddler
LOCATION:MilkShake Factory\, 326 S Maple Rd\, Ann Arbor\, Michigan\, 48103\
 , United States
GEO:42.278546;-83.781061
X-APPLE-STRUCTURED-LOCATION;VALUE=URI;X-ADDRESS=326 S Maple Rd\, Ann Arbor\
 , Michigan\, 48103\, United States;X-APPLE-RADIUS=100;X-TITLE=MilkShake Fa
 ctory:geo:42.278546,-83.781061
END:VEVENT
BEGIN:VTIMEZONE
TZID:America/Detroit
X-LIC-LOCATION:America/Detroit
BEGIN:DAYLIGHT
DTSTART:20250309T030000
TZOFFSETFROM:-0500
TZOFFSETTO:-0400
TZNAME:EDT
END:DAYLIGHT
END:VTIMEZONE
END:VCALENDAR