BEGIN:VCALENDAR
VERSION:2.0
PRODID:-//wp-events-plugin.com//7.2.3.1//EN
TZID:America/Detroit
X-WR-TIMEZONE:America/Detroit
BEGIN:VEVENT
UID:31712@annarborwithkids.com
DTSTART;TZID=America/Detroit:20260528T160000
DTEND;TZID=America/Detroit:20260528T220000
DTSTAMP:20260319T192528Z
URL:https://annarborwithkids.com/events/milan-fair-parade-3/
SUMMARY:Milan Fair & Parade
DESCRIPTION:\nMilan Fair is May 28-30\n\n\n\nThe parade is at 6p on May 28.
  The parade will start on Marvin St (Paddock Elementary). It will travel d
 own Marvin\, turning onto County St\, proceed to downtown at Main St\, tur
 ning onto Wabash\, and ending at Wilson Park.\n\n\n\nSkerbeck is providing
  rides again in 2026. The rides\, market place\, and food court will be op
 en from 4-10p. The entertainment tent is open from 5-11p with live music f
 rom 7-10p.\n\n\n\nRide wristbands are $30 on Thursday which covers everyth
 ing except Top Gun which requires 4 additional tickets. Purchases of ticke
 ts and wristbands at the fair are cash only. Buy online in advance by noon
  on May 28 to pay with a card or Paypal\n\n\n\n\n\nFull Fair Schedule:\n\n
 \n\n[events_list tag="Milan Fair" scope="2026-05-01\,2026-06-30"][/events_
 list]\n\n\n\n\n
CATEGORIES:Arbor Annie's Highlights,Carnival Rides,Community
 Fair,Elementary,High Schoolers,Middle
 Schoolers,Parade,Preschoolers,Toddler
LOCATION:Wilson Park\, 147 Wabash St\, Milan\, Michigan\, 48160\, Milan\, U
 nited States
GEO:42.0818762;-83.68500169999999
X-APPLE-STRUCTURED-LOCATION;VALUE=URI;X-ADDRESS=147 Wabash St\, Milan\, Mic
 higan\, 48160\, Milan\, United States;X-APPLE-RADIUS=100;X-TITLE=Wilson Pa
 rk:geo:42.0818762,-83.68500169999999
END:VEVENT
BEGIN:VTIMEZONE
TZID:America/Detroit
X-LIC-LOCATION:America/Detroit
BEGIN:DAYLIGHT
DTSTART:20260308T030000
TZOFFSETFROM:-0500
TZOFFSETTO:-0400
TZNAME:EDT
END:DAYLIGHT
END:VTIMEZONE
END:VCALENDAR