BEGIN:VCALENDAR
VERSION:2.0
PRODID:-//wp-events-plugin.com//7.2.3.1//EN
TZID:America/Detroit
X-WR-TIMEZONE:America/Detroit
BEGIN:VEVENT
UID:93499@annarborwithkids.com
DTSTART;TZID=America/Detroit:20260614T140000
DTEND;TZID=America/Detroit:20260614T153000
DTSTAMP:20260409T184519Z
URL:https://annarborwithkids.com/events/michigan-snakes-alive/
SUMMARY:Michigan Snakes Alive
DESCRIPTION:\nDue to a lack of mainstream education too many citizens are m
 isinformed and unnecessarily fearful of wild snakes in the environment. Na
 ture Discovery will present live specimens of up to eight species of Michi
 gan native snakes while disseminating facts that serve to quell misunderst
 anding and ambivalence. Audience members are given up close encounters ami
 d discussion that includes identification tips\, habitats\, preferred prey
  and issues related to the survival of species found in your neighborhood 
 and around the state. In conclusion audience members are invited to handle
  and photograph these ultra-gentle specimens. They are then led in recitin
 g a pledge to never harm a wild snake. A sticker is distributed stating th
 at they took the pledge.\n\n\n\nCost: $2/person or $5/family. \n\n\n\nPlea
 se register for this program by emailing waterloonha@gmail.com with your n
 ame\, phone number and number of people attending.\n\n\n\n\n
CATEGORIES:Advance Registration,Animals,Arbor Annie's
 Highlights,Elementary,High Schoolers,Middle
 Schoolers,Parents,Preschoolers,Registration Required
LOCATION:Eddy Discovery Center\, 17030 Bush Rd\, Chelsea\, Michigan\, 48118
 \, Chelsea\, United States
GEO:42.3298572;-84.08067299999999
X-APPLE-STRUCTURED-LOCATION;VALUE=URI;X-ADDRESS=17030 Bush Rd\, Chelsea\, M
 ichigan\, 48118\, Chelsea\, United States;X-APPLE-RADIUS=100;X-TITLE=Eddy 
 Discovery Center:geo:42.3298572,-84.08067299999999
END:VEVENT
BEGIN:VTIMEZONE
TZID:America/Detroit
X-LIC-LOCATION:America/Detroit
BEGIN:DAYLIGHT
DTSTART:20260308T030000
TZOFFSETFROM:-0500
TZOFFSETTO:-0400
TZNAME:EDT
END:DAYLIGHT
END:VTIMEZONE
END:VCALENDAR