BEGIN:VCALENDAR
VERSION:2.0
PRODID:-//wp-events-plugin.com//7.2.3.1//EN
TZID:America/Detroit
X-WR-TIMEZONE:America/Detroit
BEGIN:VEVENT
UID:67139@annarborwithkids.com
DTSTART;TZID=America/Detroit:20261024T090000
DTEND;TZID=America/Detroit:20261024T140000
DTSTAMP:20260326T170200Z
URL:https://annarborwithkids.com/events/michigan-monster-dash/
SUMMARY:Michigan Monster Dash
DESCRIPTION:\n8th Annual Michigan Monster Dash\, returning to the scenic Ke
 nsington Metro Park! Runners will enjoy breathtaking views\, a mostly flat
  course\, and the peaceful beauty of Kensington’s wooded surroundings. T
 he Start/Finish line is set at picturesque Maple Beach\, with the race win
 ding along the shores of stunning Kent Lake.\n\n\n\nRaces include:\n\n\n\n
 \nHalf Marathon - 9a start\n\nUntil June 28 - $65\n\n\n\nJune 29-September
  12 - $70\n\n\n\nSeptember 12-October 24 - $75\n\n\n\n\n\n10K - 9:15a star
 t\n\nUntil June 28 - $45\n\n\n\nJune 29-September 12 - $50\n\n\n\nSeptembe
 r 12-October 22 - $55\n\n\n\nOctober 22-October 24 - $58\n\n\n\n\n\n5K - 9
 :30a start\n\nUntil June 28 - $35\n\n\n\nJune 29-September 12 - $40\n\n\n\
 nSeptember 12-October 22 - $45\n\n\n\nOctober 22-October 24 - $50\n\n\n\n\
 n\n\nAll courses close at 2p. They start and end at Maple Beach.\n\n\n\n\n
 \n\n
CATEGORIES:Advance Registration,Arbor Annie's
 Highlights,Elementary,Halloween,High Schoolers,Middle
 Schoolers,Outdoor,Parents,Race
LOCATION:Kensington Metropark\, 4570 Huron River Parkway\, Milford\, Michig
 an\, 48381\, Beyond Washtenaw\, United States
GEO:42.528995;-83.637566
X-APPLE-STRUCTURED-LOCATION;VALUE=URI;X-ADDRESS=4570 Huron River Parkway\, 
 Milford\, Michigan\, 48381\, Beyond Washtenaw\, United States;X-APPLE-RADI
 US=100;X-TITLE=Kensington Metropark:geo:42.528995,-83.637566
END:VEVENT
BEGIN:VTIMEZONE
TZID:America/Detroit
X-LIC-LOCATION:America/Detroit
BEGIN:DAYLIGHT
DTSTART:20260308T030000
TZOFFSETFROM:-0500
TZOFFSETTO:-0400
TZNAME:EDT
END:DAYLIGHT
END:VTIMEZONE
END:VCALENDAR