BEGIN:VCALENDAR
VERSION:2.0
PRODID:-//wp-events-plugin.com//7.2.3.1//EN
TZID:America/Detroit
X-WR-TIMEZONE:America/Detroit
BEGIN:VEVENT
UID:93497@annarborwithkids.com
DTSTART;TZID=America/Detroit:20260517T140000
DTEND;TZID=America/Detroit:20260517T153000
DTSTAMP:20260409T183146Z
URL:https://annarborwithkids.com/events/michigan-birds-of-prey-2/
SUMMARY:Michigan Birds of Prey
DESCRIPTION:\nSurvival at its finest! Francie Krawcke of Michigan Avian Exp
 erience will bring live raptors to demonstrate their remarkable survival a
 daptations and behaviors. Enjoy a close-up look at these magnificent birds
 . \n\n\n\nCost: $2/person or $5/family. Please register for this program b
 y emailing waterloonha@gmail.com with your name\, phone number and number 
 of people attending.\n\n\n\n\n
CATEGORIES:Advance Registration,Animals,Arbor Annie's Highlights,High
 Schoolers,Hikes/Walks,Middle Schoolers,Nature,Outdoor,Parents,Registration
 Required,Spring Fun
LOCATION:Eddy Discovery Center\, 17030 Bush Rd\, Chelsea\, Michigan\, 48118
 \, Chelsea\, United States
GEO:42.3298572;-84.08067299999999
X-APPLE-STRUCTURED-LOCATION;VALUE=URI;X-ADDRESS=17030 Bush Rd\, Chelsea\, M
 ichigan\, 48118\, Chelsea\, United States;X-APPLE-RADIUS=100;X-TITLE=Eddy 
 Discovery Center:geo:42.3298572,-84.08067299999999
END:VEVENT
BEGIN:VTIMEZONE
TZID:America/Detroit
X-LIC-LOCATION:America/Detroit
BEGIN:DAYLIGHT
DTSTART:20260308T030000
TZOFFSETFROM:-0500
TZOFFSETTO:-0400
TZNAME:EDT
END:DAYLIGHT
END:VTIMEZONE
END:VCALENDAR