BEGIN:VCALENDAR
VERSION:2.0
PRODID:-//wp-events-plugin.com//7.2.3.1//EN
TZID:America/Detroit
X-WR-TIMEZONE:America/Detroit
BEGIN:VEVENT
UID:92574@annarborwithkids.com
DTSTART;TZID=America/Detroit:20260315T120000
DTEND;TZID=America/Detroit:20260315T130000
DTSTAMP:20260219T162758Z
URL:https://annarborwithkids.com/events/mexican-folkloric-dance-performanc
 e-by-ballet-folklorico-de-detroit/
SUMMARY:Mexican Folkloric Dance Performance by Ballet Folklórico de Detroi
 t
DESCRIPTION:\nVisitors are invited to experience the richness of Mexico’s
  cultural landscape through a Ballet Folklórico de Detroit dance performa
 nce. BFDetroit is a community based dance ensemble dedicated to the preser
 vation of Mexican cultural dance traditions. Through historically rooted c
 horeography\, music\, and costumes\, each dance illuminates the distinct r
 hythms\, textures\, and narratives of Mexico’s diverse regions.\n\n\n\nF
 or grades K-Adult. Held in First Floor Lobby\n
CATEGORIES:Arbor Annie's Highlights,BIPOC,Cultural
 Celebration,Dance,Elementary,Free,High Schoolers,Indoor Activities,Middle
 Schoolers,Parents
LOCATION:Downtown Branch of AADL\, 343 South Fifth Avenue\, Ann Arbor\, Mic
 higan\, 48104\, Downtown\, United States
GEO:42.278198;-83.745971
X-APPLE-STRUCTURED-LOCATION;VALUE=URI;X-ADDRESS=343 South Fifth Avenue\, An
 n Arbor\, Michigan\, 48104\, Downtown\, United States;X-APPLE-RADIUS=100;X
 -TITLE=Downtown Branch of AADL:geo:42.278198,-83.745971
END:VEVENT
BEGIN:VTIMEZONE
TZID:America/Detroit
X-LIC-LOCATION:America/Detroit
BEGIN:DAYLIGHT
DTSTART:20260308T030000
TZOFFSETFROM:-0500
TZOFFSETTO:-0400
TZNAME:EDT
END:DAYLIGHT
END:VTIMEZONE
END:VCALENDAR