BEGIN:VCALENDAR
VERSION:2.0
PRODID:-//wp-events-plugin.com//7.2.3.1//EN
TZID:America/Detroit
X-WR-TIMEZONE:America/Detroit
BEGIN:VEVENT
UID:93049@annarborwithkids.com
DTSTART;TZID=America/Detroit:20260425T130000
DTEND;TZID=America/Detroit:20260425T150000
DTSTAMP:20260312T175151Z
URL:https://annarborwithkids.com/events/metrobarks-paws-pose-play/
SUMMARY:MetroBarks: Paws\, Pose &amp\; Play
DESCRIPTION:\nHead to Huron Meadows for a fun-filled afternoon at their ann
 ual MetroBarks event. This dog focused event will feature all your dogs’
  favorite activities. Visit vendors to purchase your pups’ favorite trea
 ts and products or learn more about pet services. An off-leash dog area in
 cluding an agility course will be available for your dog to enjoy too!\n\n
 \n\nFor added fun\, capture the day by registering your pet for a FREE pet
  mini photo session at the MetroBarks: Paws\, Pose\, Play Day. Registratio
 n is required and limited for the mini photo sessions\, so register today!
  For full photo session details and to register\, Click Here.\n\n\n\nIt i
 s recommended that your dog(s) are up to date on vaccinations. Dogs are re
 quired to remain on a 6-foot leash except when in off-leash dog areas. Ple
 ase be prepared to clean up your pet’s waste. If your dog is having a ba
 d day or displaying aggressive behaviors\, you may be asked to leave the p
 rogram early.\n\n\n\nAges: Fun for all ages!Time: 1 p.m. – 3 p.m.Cost: F
 ree! A Metroparks daily or annual pass is required to enter any Metropark.
 \n
CATEGORIES:Advance Registration,Animals,Arbor Annie's
 Highlights,Elementary,Free,High Schoolers,Middle Schoolers,Optional
 Registration,Outdoor,Parents,Preschoolers
LOCATION:Huron Meadows Metropark\, 8765 Hammel Rd\, Brighton\, Michigan\, 4
 8116\, Brighton\, United States
GEO:42.482966;-83.773619
X-APPLE-STRUCTURED-LOCATION;VALUE=URI;X-ADDRESS=8765 Hammel Rd\, Brighton\,
  Michigan\, 48116\, Brighton\, United States;X-APPLE-RADIUS=100;X-TITLE=Hu
 ron Meadows Metropark:geo:42.482966,-83.773619
END:VEVENT
BEGIN:VTIMEZONE
TZID:America/Detroit
X-LIC-LOCATION:America/Detroit
BEGIN:DAYLIGHT
DTSTART:20260308T030000
TZOFFSETFROM:-0500
TZOFFSETTO:-0400
TZNAME:EDT
END:DAYLIGHT
END:VTIMEZONE
END:VCALENDAR