BEGIN:VCALENDAR
VERSION:2.0
PRODID:-//wp-events-plugin.com//7.2.3.1//EN
TZID:America/Detroit
X-WR-TIMEZONE:America/Detroit
BEGIN:VEVENT
UID:93582@annarborwithkids.com
DTSTART;TZID=America/Detroit:20260505T130000
DTEND;TZID=America/Detroit:20260505T140000
DTSTAMP:20260424T165927Z
URL:https://annarborwithkids.com/events/mermaid-crafts/
SUMMARY:Mermaid Crafts
DESCRIPTION:\nJoin AADL to make a mermaid crown and wand.\n\n\n\nFor grades
  K-5.\n\n\n
CATEGORIES:Arbor Annie's Highlights,Crafts,Elementary,Free,Indoor
 Activities,Pop Culture
LOCATION:Westgate Branch of AADL\, 2503 Jackson Ave\, Ann Arbor\, Michigan\
 , 48103\, West\, United States
GEO:42.2786067;-83.78273059999998
X-APPLE-STRUCTURED-LOCATION;VALUE=URI;X-ADDRESS=2503 Jackson Ave\, Ann Arbo
 r\, Michigan\, 48103\, West\, United States;X-APPLE-RADIUS=100;X-TITLE=Wes
 tgate Branch of AADL:geo:42.2786067,-83.78273059999998
END:VEVENT
BEGIN:VTIMEZONE
TZID:America/Detroit
X-LIC-LOCATION:America/Detroit
BEGIN:DAYLIGHT
DTSTART:20260308T030000
TZOFFSETFROM:-0500
TZOFFSETTO:-0400
TZNAME:EDT
END:DAYLIGHT
END:VTIMEZONE
END:VCALENDAR