BEGIN:VCALENDAR
VERSION:2.0
PRODID:-//wp-events-plugin.com//7.2.3.1//EN
TZID:America/Detroit
X-WR-TIMEZONE:America/Detroit
BEGIN:VEVENT
UID:84890@annarborwithkids.com
DTSTART;TZID=America/Detroit:20260322T140000
DTEND;TZID=America/Detroit:20260322T170000
DTSTAMP:20260303T205827Z
URL:https://annarborwithkids.com/events/meet-the-easter-bunny/
SUMMARY:Meet the Easter Bunny!
DESCRIPTION:\nCelebrate Easter with MilkShake Factory on Sunday\, March 22!
 \n\n\n\nTake FREE photos with the Easter Bunny from 2-5p and enjoy kid-fri
 endly activities. Enter the coloring contest for a chance to win a free mi
 lkshake!\n\n\n\nYou can also get some Easter shopping done: they're hostin
 g a pop-up with Ellen Perry\, who will be selling her hand-blown and gorge
 ously-decorated Easter eggs.\n\n\n\nAnd\, of course\, stock up on Easter c
 hocolates! They're made in small batches in-house.\n\n\n\nThere's always m
 ilkshakes\, sundaes\, molten chocolate fruit cups\, and more!\n\n\n\n\n\n\
 n\n\n
CATEGORIES:Arbor Annie's Highlights,Babies,Easter,Easter
 Bunny,Elementary,Food,Free,High Schoolers,Indoor Activities,Middle
 Schoolers,Parents,Preschoolers,Shopping,Toddler
LOCATION:MilkShake Factory\, 326 S Maple Rd\, Ann Arbor\, Michigan\, 48103\
 , United States
GEO:42.278546;-83.781061
X-APPLE-STRUCTURED-LOCATION;VALUE=URI;X-ADDRESS=326 S Maple Rd\, Ann Arbor\
 , Michigan\, 48103\, United States;X-APPLE-RADIUS=100;X-TITLE=MilkShake Fa
 ctory:geo:42.278546,-83.781061
END:VEVENT
BEGIN:VTIMEZONE
TZID:America/Detroit
X-LIC-LOCATION:America/Detroit
BEGIN:DAYLIGHT
DTSTART:20260308T030000
TZOFFSETFROM:-0500
TZOFFSETTO:-0400
TZNAME:EDT
END:DAYLIGHT
END:VTIMEZONE
END:VCALENDAR