BEGIN:VCALENDAR
VERSION:2.0
PRODID:-//wp-events-plugin.com//7.2.3.1//EN
TZID:America/Detroit
X-WR-TIMEZONE:America/Detroit
BEGIN:VEVENT
UID:92489@annarborwithkids.com
DTSTART;TZID=America/Detroit:20260214T103000
DTEND;TZID=America/Detroit:20260214T113000
DTSTAMP:20260211T191835Z
URL:https://annarborwithkids.com/events/meet-moana-rapunzel/
SUMMARY:Meet Moana &amp\; Rapunzel
DESCRIPTION:\nRapunzel and Moana are coming to The Little Seedling to celeb
 rate Valentine's Day! Join the birthday party princesses from Starbright E
 ntertainment for a meet and greet and photo op fun. \n\n\n\nThis in-store 
 event is FREE and open to the public. Costumes encouraged\n\n\n\n\n
CATEGORIES:Arbor Annie's Highlights,Elementary,Free,Indoor Activities,Pop
 Culture,Preschoolers,Toddler
LOCATION:The Little Seedling\, 2465 W Stadium Blvd\, Ann Arbor\, Michigan\,
  48103\, United States
GEO:42.278443;-83.782009
X-APPLE-STRUCTURED-LOCATION;VALUE=URI;X-ADDRESS=2465 W Stadium Blvd\, Ann A
 rbor\, Michigan\, 48103\, United States;X-APPLE-RADIUS=100;X-TITLE=The Lit
 tle Seedling:geo:42.278443,-83.782009
END:VEVENT
BEGIN:VTIMEZONE
TZID:America/Detroit
X-LIC-LOCATION:America/Detroit
BEGIN:STANDARD
DTSTART:20251102T010000
TZOFFSETFROM:-0400
TZOFFSETTO:-0500
TZNAME:EST
END:STANDARD
END:VTIMEZONE
END:VCALENDAR