BEGIN:VCALENDAR
VERSION:2.0
PRODID:-//wp-events-plugin.com//7.2.3.1//EN
TZID:America/Detroit
X-WR-TIMEZONE:America/Detroit
BEGIN:VEVENT
UID:93431@annarborwithkids.com
DTSTART;TZID=America/Detroit:20260330T100000
DTEND;TZID=America/Detroit:20260330T110000
DTSTAMP:20260330T200923Z
URL:https://annarborwithkids.com/events/meet-hopps-the-bunny-5/
SUMMARY:Meet Hopps the Bunny
DESCRIPTION:\nHopps the Bunny will be making the rounds visiting various An
 n Arbor Parks before his big Hop\, Skip\, Spring! event on Saturday\, Apri
 l 4 at Gallup Park.\n\n\n\nAt each meeting locations\, kids can have their
  photo taken with Hopps and do a craft. \n\n\n\n[wpv-view name="linked-pla
 yground"]\n\n\n\nHopps Schedule\n\n\n\nNote\, all events are free. However
  registration is required for Hop\, Skip Spring! The other events are drop
 -in.\n\n\n\n[events_list tag="hopps" scope="2026-03-30\,2026-04-05"] 🐰 
 #_{l\, F j} at #_EVENTTIMES - #_EVENTLINK at Sugarbush Park[/events_list]\
 n\n\n\n\n
CATEGORIES:Arbor Annie's Highlights,Crafts,Easter,Easter
 Bunny,Elementary,Free,Outdoor,Preschoolers,Toddler
LOCATION:Sugarbush Park\, 3050 Green Rd\, Ann Arbor\, Michigan\, 48105\, Un
 ited States
GEO:42.3124;-83.6925
X-APPLE-STRUCTURED-LOCATION;VALUE=URI;X-ADDRESS=3050 Green Rd\, Ann Arbor\,
  Michigan\, 48105\, United States;X-APPLE-RADIUS=100;X-TITLE=Sugarbush Par
 k:geo:42.3124,-83.6925
END:VEVENT
BEGIN:VTIMEZONE
TZID:America/Detroit
X-LIC-LOCATION:America/Detroit
BEGIN:DAYLIGHT
DTSTART:20260308T030000
TZOFFSETFROM:-0500
TZOFFSETTO:-0400
TZNAME:EDT
END:DAYLIGHT
END:VTIMEZONE
END:VCALENDAR