BEGIN:VCALENDAR
VERSION:2.0
PRODID:-//wp-events-plugin.com//7.2.3.1//EN
TZID:America/Detroit
X-WR-TIMEZONE:America/Detroit
BEGIN:VEVENT
UID:16818@annarborwithkids.com
DTSTART;TZID=America/Detroit:20220610T180000
DTEND;TZID=America/Detroit:20220610T210000
DTSTAMP:20220603T031930Z
URL:https://annarborwithkids.com/events/mayors-green-fair-2/
SUMMARY:Mayor's Green Fair
DESCRIPTION:\nCelebrate Ann Arbor Zero Waste Week and the end of the school
  year at the Mayor's Green Fair as it returns to its traditional June date
 .\n\n\n\nThere will be information on Energy-saving appliances\, solar ins
 tallations\, green commuting\, and more. There will be Live Entertainment.
  Electric vehicles will also be on display.\n\n\n\nThe event will take pla
 ce on Main Street and the Library Lane lot.\n\n\n\nLearn about the Zero Wa
 ste Challenge\n\n\n\n\n
CATEGORIES:Age Range,Arbor Annie's
 Highlights,Babies,Elementary,Environmental,Free,High Schoolers,Middle
 Schoolers,Parents,Preschoolers,Toddler
LOCATION:Main Street Area\, Main Street and Liberty\, Ann Arbor \, MI\, 481
 04\, Downtown\, United States
GEO:42.2795761;-83.74859989999999
X-APPLE-STRUCTURED-LOCATION;VALUE=URI;X-ADDRESS=Main Street and Liberty\, A
 nn Arbor \, MI\, 48104\, Downtown\, United States;X-APPLE-RADIUS=100;X-TIT
 LE=Main Street Area:geo:42.2795761,-83.74859989999999
END:VEVENT
BEGIN:VTIMEZONE
TZID:America/Detroit
X-LIC-LOCATION:America/Detroit
BEGIN:DAYLIGHT
DTSTART:20220313T030000
TZOFFSETFROM:-0500
TZOFFSETTO:-0400
TZNAME:EDT
END:DAYLIGHT
END:VTIMEZONE
END:VCALENDAR