BEGIN:VCALENDAR
VERSION:2.0
PRODID:-//wp-events-plugin.com//7.2.3.1//EN
TZID:America/Detroit
X-WR-TIMEZONE:America/Detroit
BEGIN:VEVENT
UID:76016@annarborwithkids.com
DTSTART;TZID=America/Detroit:20240119T100000
DTEND;TZID=America/Detroit:20240119T104500
DTSTAMP:20240108T031122Z
URL:https://annarborwithkids.com/events/marbear-yoga-little-yogis-yoga-and
 -craft-ages-2-5-6-27/
SUMMARY:Marbear Yoga: Little Yogis Yoga and Craft (ages 2.5-6)
DESCRIPTION:\nJoin Marbear Yoga for class with your little one! Stretch\, m
 ove\, shake\, dance\, and breathe in fun\, energetic\, and relaxing ways. 
 Practice age appropriate yoga poses\, breathing exercises\, play yoga game
 s\, meditate\, have story time\, and practice mindfulness.\n\n\n\nFull cla
 ss session packages and drop-in classes are available. Advanced registrati
 on required. Sibling discounts available. Interested in other types of cla
 sses (with or without parents)\, times\, age groups\, private sessions\, p
 arties\, or have any questions?\n\n\n\nEmail: hello@marbearyoga.com\n\n\n
CATEGORIES:Advance Registration,Arbor Annie's
 Highlights,Classes,Crafts,Elementary,Fitness,Indoor
 Activities,Preschoolers,Toddler,Yoga
LOCATION:Studio Studio\, 1946 Packard St\, Ann Arbor\, Michigan\, 48104\, U
 nited States
GEO:42.257571;-83.727925
X-APPLE-STRUCTURED-LOCATION;VALUE=URI;X-ADDRESS=1946 Packard St\, Ann Arbor
 \, Michigan\, 48104\, United States;X-APPLE-RADIUS=100;X-TITLE=Studio Stud
 io:geo:42.257571,-83.727925
END:VEVENT
BEGIN:VTIMEZONE
TZID:America/Detroit
X-LIC-LOCATION:America/Detroit
BEGIN:STANDARD
DTSTART:20231105T010000
TZOFFSETFROM:-0400
TZOFFSETTO:-0500
TZNAME:EST
END:STANDARD
END:VTIMEZONE
END:VCALENDAR