BEGIN:VCALENDAR
VERSION:2.0
PRODID:-//wp-events-plugin.com//7.2.3.1//EN
TZID:America/Detroit
X-WR-TIMEZONE:America/Detroit
BEGIN:VEVENT
UID:91754@annarborwithkids.com
DTSTART;TZID=America/Detroit:20260328T120000
DTEND;TZID=America/Detroit:20260328T153000
DTSTAMP:20260127T222220Z
URL:https://annarborwithkids.com/events/mapy-syrup-tours-2026-03-07-2026-0
 3-08-2026-03-14-2026-03-15-2026-03-21-2026-03-22-2026-03-28/
SUMMARY:Maple Syrup Tours
DESCRIPTION:\nThis engaging tour begins with a wagon ride to the forested a
 rea of Maybury Farm. There you will walk into the sugar bush where you'l
 l learn the amazing way sugar maple trees produce sap\, why sap flows\, ho
 w to tap and collect sap from the tree. \n\n\n\nThe wagon will then take y
 ou to the Sugar Shack where you'll learn how the sap becomes delicious map
 le syrup by watching the process in action! You'll even get to try a sampl
 e of the finished product! \n\n\n\nOnce your tour is finished\, you are i
 nvited to warm up in the Maybury Farm General Store where hot drinks and s
 nacks are available to purchase. Pure Michigan Maple Syrup is also availab
 le for purchase and they offer free recipes for you to try with your maple
  syrup at home. It's a fun and educational experience for all ages!\n\n\n\
 nReservations are not required. Tours leave at every 30 minutes from 12:30
 -2:30p.\n\n\n\nSave by booking online. $12 at the farm or $10 when booked 
 online at least 48 hours before your visit.\n\n\n
CATEGORIES:Advance Registration,Arbor Annie's
 Highlights,Elementary,Food,High Schoolers,Middle Schoolers,Nature,Optional
 Registration,Outdoor,Parents,Preschoolers
LOCATION:Maybury Farm\, 50165 8 Mile Rd\, Northville\, Michigan\, 48168\, N
 orthville\, United States
X-APPLE-STRUCTURED-LOCATION;VALUE=URI;X-ADDRESS=50165 8 Mile Rd\, Northvill
 e\, Michigan\, 48168\, Northville\, United States;X-APPLE-RADIUS=100;X-TIT
 LE=Maybury Farm:geo:0,0
END:VEVENT
BEGIN:VTIMEZONE
TZID:America/Detroit
X-LIC-LOCATION:America/Detroit
BEGIN:DAYLIGHT
DTSTART:20260308T030000
TZOFFSETFROM:-0500
TZOFFSETTO:-0400
TZNAME:EDT
END:DAYLIGHT
END:VTIMEZONE
END:VCALENDAR