BEGIN:VCALENDAR
VERSION:2.0
PRODID:-//wp-events-plugin.com//7.2.3.1//EN
TZID:America/Detroit
X-WR-TIMEZONE:America/Detroit
BEGIN:VEVENT
UID:86241@annarborwithkids.com
DTSTART;TZID=America/Detroit:20250619T150000
DTEND;TZID=America/Detroit:20250619T180000
DTSTAMP:20250504T191641Z
URL:https://annarborwithkids.com/events/manchester-farmers-market-3-2025-0
 6-19/
SUMMARY:Manchester Farmers Market
DESCRIPTION:\nThe Manchester Farmers Market is held on Thursdays from May 1
 5-October 16. The Farmers Market is held on Adrian Street at Main Street n
 ear the Manchester Mill. \n\n\n\nCheck out their special events in 2025:\n
 \n\n\n\nMay 29 - Pollinator Week\n\n\n\nJune 5 - Dairy Goat Demo\n\n\n\nJu
 ly 10 - Senior Day\n\n\n\nAugust 28 - Restaurant Week\n\n\n\nSeptember 11 
 - Canning Class\n\n\n\nOctober 16 - Chili Cook Off\n\n\n\n\n\n
CATEGORIES:Elementary,Farmers Market,Food,High Schoolers,Middle
 Schoolers,Outdoor,Parents,Preschoolers,Toddler
LOCATION:Manchester Mill\, 201 E. Main St\, Manchester\, Michigan\, 48158\,
  United States
GEO:42.149688;-84.038641
X-APPLE-STRUCTURED-LOCATION;VALUE=URI;X-ADDRESS=201 E. Main St\, Manchester
 \, Michigan\, 48158\, United States;X-APPLE-RADIUS=100;X-TITLE=Manchester 
 Mill:geo:42.149688,-84.038641
END:VEVENT
BEGIN:VTIMEZONE
TZID:America/Detroit
X-LIC-LOCATION:America/Detroit
BEGIN:DAYLIGHT
DTSTART:20250309T030000
TZOFFSETFROM:-0500
TZOFFSETTO:-0400
TZNAME:EDT
END:DAYLIGHT
END:VTIMEZONE
END:VCALENDAR