BEGIN:VCALENDAR
VERSION:2.0
PRODID:-//wp-events-plugin.com//7.2.3.1//EN
TZID:America/Detroit
X-WR-TIMEZONE:America/Detroit
BEGIN:VEVENT
UID:66845@annarborwithkids.com
DTSTART;TZID=America/Detroit:20260521T163000
DTEND;TZID=America/Detroit:20260521T173000
DTSTAMP:20260416T164137Z
URL:https://annarborwithkids.com/events/makerspace-2/
SUMMARY:Drop-In Makerspace
DESCRIPTION:\nThis is a fun\, drop-In program for grades K through 8. \n\n\
 n\nMake\, build\, craft and explore! \n\n\n\nParticipate in a variety of o
 pen-ended activities. They supply the materials and you supply the imagina
 tion.\n\n\n\nRegistration is not required.\n\n\n\n\n
CATEGORIES:Arbor Annie's Highlights,Crafts,Elementary,Free,Indoor
 Activities,Middle Schoolers
LOCATION:Dexter District Library\, 3255 Alpine St\, Dexter\, Michigan\, 481
 30\, Dexter\, United States
GEO:42.340266;-83.88900000000001
X-APPLE-STRUCTURED-LOCATION;VALUE=URI;X-ADDRESS=3255 Alpine St\, Dexter\, M
 ichigan\, 48130\, Dexter\, United States;X-APPLE-RADIUS=100;X-TITLE=Dexter
  District Library:geo:42.340266,-83.88900000000001
END:VEVENT
BEGIN:VTIMEZONE
TZID:America/Detroit
X-LIC-LOCATION:America/Detroit
BEGIN:DAYLIGHT
DTSTART:20260308T030000
TZOFFSETFROM:-0500
TZOFFSETTO:-0400
TZNAME:EDT
END:DAYLIGHT
END:VTIMEZONE
END:VCALENDAR