BEGIN:VCALENDAR
VERSION:2.0
PRODID:-//wp-events-plugin.com//7.2.3.1//EN
TZID:America/Detroit
X-WR-TIMEZONE:America/Detroit
BEGIN:VEVENT
UID:90027@annarborwithkids.com
DTSTART;TZID=America/Detroit:20251124T163000
DTEND;TZID=America/Detroit:20251124T173000
DTSTAMP:20251014T154901Z
URL:https://annarborwithkids.com/events/make-your-own-craft-bag-for-thanks
 giving-break-2/
SUMMARY:Make Your Own Craft Bag for Thanksgiving Break
DESCRIPTION:\nDrop-in and put together your own craft and activity bag to t
 ake with you on your travels or use at home during Thanksgiving break.\n\n
 \n\nFor kids of all ages\n\n\n\nRegistration is not required.\n\n\n\n\n
CATEGORIES:Arbor Annie's Highlights,Crafts,Elementary,Free,Indoor
 Activities,Middle Schoolers,Preschoolers,Thanksgiving,Toddler
LOCATION:Dexter District Library\, 3255 Alpine St\, Dexter\, Michigan\, 481
 30\, Dexter\, United States
GEO:42.340266;-83.88900000000001
X-APPLE-STRUCTURED-LOCATION;VALUE=URI;X-ADDRESS=3255 Alpine St\, Dexter\, M
 ichigan\, 48130\, Dexter\, United States;X-APPLE-RADIUS=100;X-TITLE=Dexter
  District Library:geo:42.340266,-83.88900000000001
END:VEVENT
BEGIN:VTIMEZONE
TZID:America/Detroit
X-LIC-LOCATION:America/Detroit
BEGIN:STANDARD
DTSTART:20251102T010000
TZOFFSETFROM:-0400
TZOFFSETTO:-0500
TZNAME:EST
END:STANDARD
END:VTIMEZONE
END:VCALENDAR