BEGIN:VCALENDAR
VERSION:2.0
PRODID:-//wp-events-plugin.com//7.2.3.1//EN
TZID:America/Detroit
X-WR-TIMEZONE:America/Detroit
BEGIN:VEVENT
UID:71494@annarborwithkids.com
DTSTART;TZID=America/Detroit:20250715T170000
DTEND;TZID=America/Detroit:20250715T210000
DTSTAMP:20250707T001316Z
URL:https://annarborwithkids.com/events/make-your-mark-on-main/
SUMMARY:Paint the Town
DESCRIPTION:\nJoin Main Street Ann Arbor for an Art Fair pregame block part
 y. Bring your inner artist to celebrate and make your mark on Main.\n\n\n\
 nDavid Zinn will be making chalk art at 5&amp\;7p.\n\n\n\nWatch the Plein 
 Air Painting artists.\n\n\n\nThere will be live music &amp\; activities in
  the Street. Look for Ann Arbor Hands-On Museum\, Doodles Academy\, Whoa S
 ilent Disco\, DJ Batz\, Ain't Dead Yet\, and more. There will be food &amp
 \; drinks.\n\n\n\n\n\nUpcoming A2 Summer Street Activities\n\n\n\n[events_
 list tag="a2 summer streets"]🌞  #_{l\, F\, j }#_EVENTLINK[/events_list]
 \n\n\n\n\n
CATEGORIES:Arbor Annie's Highlights,Elementary,Free,High Schoolers,Middle
 Schoolers,Outdoor,Parents,Preschoolers,Toddler
LOCATION:Main Street Area\, Main Street and Liberty\, Ann Arbor \, MI\, 481
 04\, Downtown\, United States
GEO:42.2795761;-83.74859989999999
X-APPLE-STRUCTURED-LOCATION;VALUE=URI;X-ADDRESS=Main Street and Liberty\, A
 nn Arbor \, MI\, 48104\, Downtown\, United States;X-APPLE-RADIUS=100;X-TIT
 LE=Main Street Area:geo:42.2795761,-83.74859989999999
END:VEVENT
BEGIN:VTIMEZONE
TZID:America/Detroit
X-LIC-LOCATION:America/Detroit
BEGIN:DAYLIGHT
DTSTART:20250309T030000
TZOFFSETFROM:-0500
TZOFFSETTO:-0400
TZNAME:EDT
END:DAYLIGHT
END:VTIMEZONE
END:VCALENDAR