BEGIN:VCALENDAR
VERSION:2.0
PRODID:-//wp-events-plugin.com//7.2.3.1//EN
TZID:America/Detroit
X-WR-TIMEZONE:America/Detroit
BEGIN:VEVENT
UID:92567@annarborwithkids.com
DTSTART;TZID=America/Detroit:20260311T180000
DTEND;TZID=America/Detroit:20260311T190000
DTSTAMP:20260219T154247Z
URL:https://annarborwithkids.com/events/make-a-magic-yarn-ball/
SUMMARY:Make a Magic Yarn Ball
DESCRIPTION:\nUsing an invisible yarn joining technique called the Russian 
 join\, hundreds of little scraps can be connected to make a big continuous
  ball of yarn\, in a fun rainbow of colors.\n\n\n\nCome learn this joining
  technique and leave with a unique ball of yarn\, made entirely from yarn 
 scraps.\n\n\n\nFor teens &amp\; adults. Held in 4th Floor Program Room.\n
CATEGORIES:Arbor Annie's Highlights,Crafts,Fiber Arts,Free,High
 Schoolers,Indoor Activities,Parents
LOCATION:Downtown Branch of AADL\, 343 South Fifth Avenue\, Ann Arbor\, Mic
 higan\, 48104\, Downtown\, United States
GEO:42.278198;-83.745971
X-APPLE-STRUCTURED-LOCATION;VALUE=URI;X-ADDRESS=343 South Fifth Avenue\, An
 n Arbor\, Michigan\, 48104\, Downtown\, United States;X-APPLE-RADIUS=100;X
 -TITLE=Downtown Branch of AADL:geo:42.278198,-83.745971
END:VEVENT
BEGIN:VTIMEZONE
TZID:America/Detroit
X-LIC-LOCATION:America/Detroit
BEGIN:DAYLIGHT
DTSTART:20260308T030000
TZOFFSETFROM:-0500
TZOFFSETTO:-0400
TZNAME:EDT
END:DAYLIGHT
END:VTIMEZONE
END:VCALENDAR