BEGIN:VCALENDAR
VERSION:2.0
PRODID:-//wp-events-plugin.com//7.2.3.1//EN
TZID:America/Detroit
X-WR-TIMEZONE:America/Detroit
BEGIN:VEVENT
UID:93235@annarborwithkids.com
DTSTART;TZID=America/Detroit:20260429T183000
DTEND;TZID=America/Detroit:20260429T193000
DTSTAMP:20260323T193957Z
URL:https://annarborwithkids.com/events/maize-mirchi-presents-sa-re-ga-ma-
 pella/
SUMMARY:Maize Mirchi Presents: Sa Re Ga Ma Pella
DESCRIPTION:\nMaize Mirchi\, a student vocal group at the University of Mic
 higan\, will perform a cappella songs from a variety of both South Asian a
 nd Western genres.\n\n\n\nFor grades K-Adult.\n
CATEGORIES:Arbor Annie's Highlights,BIPOC,Cultural
 Celebration,Elementary,Free,High Schoolers,Indoor Activities,Middle
 Schoolers,Music/Concerts,Parents
LOCATION:Downtown Branch of AADL\, 343 South Fifth Avenue\, Ann Arbor\, Mic
 higan\, 48104\, Downtown\, United States
GEO:42.278198;-83.745971
X-APPLE-STRUCTURED-LOCATION;VALUE=URI;X-ADDRESS=343 South Fifth Avenue\, An
 n Arbor\, Michigan\, 48104\, Downtown\, United States;X-APPLE-RADIUS=100;X
 -TITLE=Downtown Branch of AADL:geo:42.278198,-83.745971
END:VEVENT
BEGIN:VTIMEZONE
TZID:America/Detroit
X-LIC-LOCATION:America/Detroit
BEGIN:DAYLIGHT
DTSTART:20260308T030000
TZOFFSETFROM:-0500
TZOFFSETTO:-0400
TZNAME:EDT
END:DAYLIGHT
END:VTIMEZONE
END:VCALENDAR