BEGIN:VCALENDAR
VERSION:2.0
PRODID:-//wp-events-plugin.com//7.2.3.1//EN
TZID:America/Detroit
X-WR-TIMEZONE:America/Detroit
BEGIN:VEVENT
UID:75681@annarborwithkids.com
DTSTART;TZID=America/Detroit:20240420T140000
DTEND;TZID=America/Detroit:20240420T150000
DTSTAMP:20240329T020939Z
URL:https://annarborwithkids.com/events/magical-snowman-painting-party-for
 -kids/
SUMMARY:Spring Chicks & Colorful Eggs Painting PARTy for Kids
DESCRIPTION:\nPainting parties are a fun way for children to get together i
 n a relaxed setting while learning how to paint. With step by step guidanc
 e\, students will create a masterpiece to be proud to display. \n\n\n\nThi
 s month's painting party theme is Spring Is Here! You will paint a cute ch
 ick and colorful eggs. Painters will have fun creating their own designs f
 or their eggs to make their piece one of a kind! We will be painting on an
  11X14 canvas board. \n\n\n\nThere will be a complimentary treat for all!\
 n\n\n\nFor kids in elementary and middle school.\n\n\n\nMake sure to wear 
 old clothing or a smock. \n
CATEGORIES:Advance Registration,Arbor Annie's
 Highlights,Art,Classes,Crafts,Elementary,Indoor Activities,Middle
 Schoolers,Spring Fun
LOCATION:Whitepine Studios\, 141 E Michigan Avenue\, Suite B\, Saline\, Mic
 higan\, 48176\, United States
GEO:42.167252;-83.780757
X-APPLE-STRUCTURED-LOCATION;VALUE=URI;X-ADDRESS=141 E Michigan Avenue\, Sui
 te B\, Saline\, Michigan\, 48176\, United States;X-APPLE-RADIUS=100;X-TITL
 E=Whitepine Studios:geo:42.167252,-83.780757
END:VEVENT
BEGIN:VTIMEZONE
TZID:America/Detroit
X-LIC-LOCATION:America/Detroit
BEGIN:DAYLIGHT
DTSTART:20240310T030000
TZOFFSETFROM:-0500
TZOFFSETTO:-0400
TZNAME:EDT
END:DAYLIGHT
END:VTIMEZONE
END:VCALENDAR