BEGIN:VCALENDAR
VERSION:2.0
PRODID:-//wp-events-plugin.com//7.2.3.1//EN
TZID:America/Detroit
X-WR-TIMEZONE:America/Detroit
BEGIN:VEVENT
UID:93495@annarborwithkids.com
DTSTART;TZID=America/Detroit:20260503T120000
DTEND;TZID=America/Detroit:20260503T133000
DTSTAMP:20260409T151109Z
URL:https://annarborwithkids.com/events/mad-hatters-tea/
SUMMARY:Mad Hatter's Tea
DESCRIPTION:\nJoin Ballet Chelsea for a magical Mad Hatter's Tea before the
 ir Sunday performance of Alice in Wonderland.\n\n\n\nThe Mad Hatter's Tea 
 will include treats\, tea\, games\, and crafts. You'll also get to meet so
 me of Wonderland's iconic characters like the Mad Hatter\, Queen of Hearts
  and Cheshire Cat.\n\n\n\nNote: You will still need a ticket for the balle
 t at 2p.\n\n\n\nTickets can be purchased at Ballet Chelsea’s website. Fo
 r more information\, call Ballet Chelsea at (734) 475-3070\, or email jean
 @balletchelsea.org.\n\n\n\n\n\nShow Times\n\n\n\n[events_list tag="ballet 
 chelsea" scope="2026-04-01\,2026-05-31"][/events_list]\n\n\n\n\n
CATEGORIES:Advance Registration,Arbor Annie's
 Highlights,Elementary,Food,Indoor Activities,Pop
 Culture,Preschoolers,Registration Required,Toddler
LOCATION:Chelsea High School\, 740 N. Freer Rd\, Chelsea\, Michigan\, 48119
 \, Chelsea\, United States
GEO:42.31131;-84.00186200000002
X-APPLE-STRUCTURED-LOCATION;VALUE=URI;X-ADDRESS=740 N. Freer Rd\, Chelsea\,
  Michigan\, 48119\, Chelsea\, United States;X-APPLE-RADIUS=100;X-TITLE=Che
 lsea High School:geo:42.31131,-84.00186200000002
END:VEVENT
BEGIN:VTIMEZONE
TZID:America/Detroit
X-LIC-LOCATION:America/Detroit
BEGIN:DAYLIGHT
DTSTART:20260308T030000
TZOFFSETFROM:-0500
TZOFFSETTO:-0400
TZNAME:EDT
END:DAYLIGHT
END:VTIMEZONE
END:VCALENDAR