BEGIN:VCALENDAR
VERSION:2.0
PRODID:-//wp-events-plugin.com//7.2.3.1//EN
TZID:America/Detroit
X-WR-TIMEZONE:America/Detroit
BEGIN:VEVENT
UID:75614@annarborwithkids.com
DTSTART;TZID=America/Detroit:20240120T100000
DTEND;TZID=America/Detroit:20240120T130000
DTSTAMP:20231110T021948Z
URL:https://annarborwithkids.com/events/lowes-build-grow-kids-workshop-my-
 first-diy-toolbox-2/
SUMMARY:Lowe's Build & Grow Kids Workshop: My First DIY Toolbox
DESCRIPTION:\nHead to Lowe's to make  My First DIY Toolbox\n\n\n\nAdvance r
 egistration is needed. If you don't show up\, your kit may be given to. a 
 walk-in starting at 1p.\n\n\n\nLowe's Build &amp\; Grow Workshop\n\n\n\n[e
 vents_list tag="build-grow"][/events_list]\n
CATEGORIES:Advance Registration,Arbor Annie's
 Highlights,Crafts,Elementary,Free,Indoor Activities,Middle
 Schoolers,Preschoolers,Shopping
LOCATION:Lowe's Ann Arbor\, 3900 Carpenter Rd\, Ypsilanti\, Michigan\, 4819
 7\, East\, United States
GEO:42.2321213;-83.68252889999997
X-APPLE-STRUCTURED-LOCATION;VALUE=URI;X-ADDRESS=3900 Carpenter Rd\, Ypsilan
 ti\, Michigan\, 48197\, East\, United States;X-APPLE-RADIUS=100;X-TITLE=Lo
 we's Ann Arbor:geo:42.2321213,-83.68252889999997
END:VEVENT
BEGIN:VTIMEZONE
TZID:America/Detroit
X-LIC-LOCATION:America/Detroit
BEGIN:STANDARD
DTSTART:20231105T010000
TZOFFSETFROM:-0400
TZOFFSETTO:-0500
TZNAME:EST
END:STANDARD
END:VTIMEZONE
END:VCALENDAR